BEGIN:VCALENDAR
VERSION:2.0
PRODID:-//ChamberMaster//Event Calendar 2.0//EN
METHOD:PUBLISH
X-PUBLISHED-TTL:P3D
REFRESH-INTERVAL:P3D
CALSCALE:GREGORIAN
BEGIN:VEVENT
DTSTART:20190318T150000Z
DTEND:20190318T170000Z
X-MICROSOFT-CDO-ALLDAYEVENT:FALSE
SUMMARY:Timbered Lake Concert
DESCRIPTION:In 2003\, singer-songwriter-guitarist Diana Ramsdell Newman joined with poet-singer-indigenous percussionist Crow Suncloud to become the indie/folk duo Timbered Lake. Diana and Crow offer their distinctively poetic lyricism and luminous harmonies in support of various grassroots concerns. Through their expansive repertoire of original songs Timbered Lake's heartfelt mission is help be a catalyst for consciousness\, community\, and peace. https://www.facebook.com/Timbered-Lake-132467313480197/ https://soundcloud.com/timberedlake
X-ALT-DESC;FMTTYPE=text/html:In 2003\, singer-songwriter-guitarist Diana Ramsdell Newman joined with poet-singer-indigenous percussionist Crow Suncloud to become the indie/folk duo Timbered Lake. Diana and Crow offer their distinctively poetic lyricism and luminous harmonies in support of various grassroots concerns. Through their expansive repertoire of original songs Timbered Lake&rsquo\;s heartfelt mission is help be a catalyst for consciousness\, community\, and peace. https://www.facebook.com/Timbered-Lake-132467313480197/ https://soundcloud.com/timberedlake
LOCATION:16 Clark Point Road Southwest Harbor
UID:e.3061.8458
SEQUENCE:3
DTSTAMP:20260420T042948Z
URL:https://www.visitbarharbor.com/events/details/timbered-lake-concert-8458
END:VEVENT

END:VCALENDAR
