BEGIN:VCALENDAR
VERSION:2.0
PRODID:-//ChamberMaster//Event Calendar 2.0//EN
METHOD:PUBLISH
X-PUBLISHED-TTL:P3D
REFRESH-INTERVAL:P3D
CALSCALE:GREGORIAN
BEGIN:VEVENT
DTSTART:20190822T220000Z
DTEND:20190823T000000Z
X-MICROSOFT-CDO-ALLDAYEVENT:FALSE
SUMMARY:Tiles and Trivets
DESCRIPTION:This fun class will use premade ceramic handmade tiles of various sizes which will be decorated with glaze or painted with bright colors. When finished\, these can be used for coasters or trivets. If glazed\, they will be fired and returned a week later. The painted tiles can be taken home after class. No Experience is needed.
X-ALT-DESC;FMTTYPE=text/html:This fun class will use premade ceramic handmade tiles of various sizes which will be decorated with glaze or painted with bright colors. When finished\, these can be used for coasters or trivets. If glazed\, they will be fired and returned a week later. The painted tiles can be taken home after class. No Experience is needed.
LOCATION:ArtWaves 1345 State Highway 102\, Bar Harbor\, ME\, USA
UID:e.3061.14492
SEQUENCE:3
DTSTAMP:20260419T192342Z
URL:https://www.visitbarharbor.com/events/details/tiles-and-trivets-08-22-2019-14492
END:VEVENT

END:VCALENDAR
