BEGIN:VCALENDAR
VERSION:2.0
PRODID:-//ChamberMaster//Event Calendar 2.0//EN
METHOD:PUBLISH
X-PUBLISHED-TTL:P3D
REFRESH-INTERVAL:P3D
CALSCALE:GREGORIAN
BEGIN:VEVENT
DTSTART:20180720T150000Z
DTEND:20180720T160000Z
X-MICROSOFT-CDO-ALLDAYEVENT:FALSE
SUMMARY:Tiffany Window Talk at St. Saviour's!
DESCRIPTION:Tiffany Window talk Friday July 20 11 am at St. Saviour's in Bar Harbor   Dr. Wayne Boucher will speak about his research on Tiffany stained glass windows at 11 o'clock on Friday\, July 20\, at St. Saviour's Episcopal Church\, 41 Mt. Desert Street in Bar Harbor. Professor Boucher's interest in Tiffany windows has led to active research since 2010. He is the creator of the Tiffany Window Census\, a catalogue of both existing and lost windows in churches\, public buildings\, and the like.. St. Saviour's is handicap accessible. The talk is free. Donations will be welcome for the Stained Glass Window Fund. For more information\, go to www.StSaviours.me.
X-ALT-DESC;FMTTYPE=text/html:Tiffany Window talk Friday July 20 11 am at St. Saviour&rsquo\;s in Bar Harbor &nbsp\; Dr. Wayne Boucher will speak about his research on Tiffany stained glass windows at 11 o&rsquo\;clock on Friday\, July 20\, at St. Saviour&rsquo\;s Episcopal Church\, 41 Mt. Desert Street in Bar Harbor. Professor Boucher&rsquo\;s interest in Tiffany windows has led to active research since 2010. He is the creator of the Tiffany Window Census\, a catalogue of both existing and lost windows in churches\, public buildings\, and the like.. St. Saviour&rsquo\;s is handicap accessible. The talk is free. Donations will be welcome for the Stained Glass Window Fund. For more information\, go to www.StSaviours.me.
LOCATION:St. Saviour's Parish 41 Mt. Desert Street Bar Harbor
UID:e.3061.2816
SEQUENCE:3
DTSTAMP:20260420T195643Z
URL:https://www.visitbarharbor.com/events/details/tiffany-window-talk-at-st-saviour-s-2816
END:VEVENT

END:VCALENDAR
