BEGIN:VCALENDAR
VERSION:2.0
PRODID:-//ChamberMaster//Event Calendar 2.0//EN
METHOD:PUBLISH
X-PUBLISHED-TTL:P3D
REFRESH-INTERVAL:P3D
CALSCALE:GREGORIAN
BEGIN:VEVENT
DTSTART:20181213T203000Z
DTEND:20181213T213000Z
X-MICROSOFT-CDO-ALLDAYEVENT:FALSE
SUMMARY:The Write Stuff Story Showcase
DESCRIPTION:Join students from Conners Emerson as they showcase their storytelling skills at the Jesup Memorial Library on Thursday\, Dec. 13 at 3:30 p.m.  \n\n \n\nThe students have spent the six weeks working on oral storytelling with Andrew Simon of the Barn Arts Collective as part of "The Write Stuff: A Program to Nurture Tomorrow's Story Makers."  The Write Stuff is a collaborative program between Conners Emerson School\,  MDI High School\, and the Jesup Memorial Library that is funded by a grant from the Maine State Library. The program is designed to help kids become storytellers in three different ways\, orally\, in writing and through poetry.\n\n \n\nThe next workshop will be 7 weeks covering written storytelling beginning in January and led by award-winning\, New York times bestselling children's author Carrie Jones\, and the third part will be 7 weeks of poetry beginning in March and led by Nicole Cardano\, who has taught drama\, show choir and improvisation at local schools and community programs. Students can sign up for all three sessions or just one session if they choose.\n\n \n\nFor more information\, contact Melinda Rice\, program director at the Jesup\, at mrice@jesuplibrary.org  or 207-288-4245.
X-ALT-DESC;FMTTYPE=text/html:<p>Join students from Conners Emerson as they showcase their storytelling skills at the Jesup Memorial Library on Thursday\, Dec. 13 at 3:30 p.m. &nbsp\;</p>\n\n<p>&nbsp\;</p>\n\n<p>The students have spent the six weeks working on oral storytelling with Andrew Simon of the Barn Arts Collective as part of &ldquo\;The Write Stuff: A Program to Nurture Tomorrow&rsquo\;s Story Makers.&rdquo\; &nbsp\;The Write Stuff is a collaborative program between Conners Emerson School\,&nbsp\; MDI High School\, and the Jesup Memorial Library that is funded by a grant from the Maine State Library. The program is designed to help kids become storytellers in three different ways\, orally\, in writing and through poetry.</p>\n\n<p>&nbsp\;</p>\n\n<p>The next workshop will be 7 weeks covering written storytelling beginning in January and led by award-winning\, New York times bestselling children&rsquo\;s author Carrie Jones\, and the third part will be 7 weeks of poetry beginning in March and led by Nicole Cardano\, who has taught drama\, show choir and improvisation at local schools and community programs. Students can sign up for all three sessions or just one session if they choose.</p>\n\n<p>&nbsp\;</p>\n\n<p>For more information\, contact Melinda Rice\, program director at the Jesup\, at mrice@jesuplibrary.org&nbsp\; or 207-288-4245.</p>\n
LOCATION:Jesup Memorial Library\, 34 Mt. Desert St.\, Bar Harbor\, ME 04609
UID:e.3061.4795
SEQUENCE:3
DTSTAMP:20260420T112854Z
URL:https://www.visitbarharbor.com/events/details/the-write-stuff-story-showcase-4795
END:VEVENT

END:VCALENDAR
