BEGIN:VCALENDAR
VERSION:2.0
PRODID:-//ChamberMaster//Event Calendar 2.0//EN
METHOD:PUBLISH
X-PUBLISHED-TTL:P3D
REFRESH-INTERVAL:P3D
CALSCALE:GREGORIAN
BEGIN:VEVENT
DTSTART:20190425T193000Z
DTEND:20190425T203000Z
X-MICROSOFT-CDO-ALLDAYEVENT:FALSE
SUMMARY:The Write Stuff: Improv and Poetry
DESCRIPTION:Celebrate National Poetry Month with a group of talented students from the Conners Emerson School as they share their poetry they have working on at a special event at the Jesup Memorial Library on Thursday\, April 25 at 3:30 p.m. \n\n \n\nThe students spent the past few months studying poetry and improvisation with Nicole Cardano. Together\, they have focused on how sound and movement through the practice of improvisational theater can inspire the written word. Cardano has taught the students how improvisational techniques like "Yes And" can inspire them to embrace their own ideas. \n\n \n\nCardano is the founder and executive director of Theater Today\, a nonprofit\, committed to the practice of theater as a social\, emotional and education tool. Also\, Cardano is the Arts Outreach Educator with The Grand Theater in Ellsworth\, as well as a Teaching Artist Leader with the Maine Arts Commission. She works with theater integration in the classroom in connection to curriculum studies and improving social skills amongst peers. \n\n \n\nThe Write Stuff is a collaborative program between Conners Emerson School\, MDI High School\, and the Jesup Memorial Library. The program is designed to help kids become storytellers in three different ways\, orally\, in writing and through poetry. The Write Stuff is funded by a grant from the Maine State Library with support from Machias Savings Bank. For more information\, contact program director Melinda Rice-Schoon at 207-288-4245 or mrice@jesuplibrary.org.
X-ALT-DESC;FMTTYPE=text/html:<span style="font-family:times new roman\,serif"><span style="font-size:14.0pt">Celebrate National Poetry Month with a group of talented students from the Conners Emerson School as they share their poetry they have working on at a special event at the Jesup Memorial Library on Thursday\, April 25 at 3:30 p.m. </span></span><br />\n&nbsp\;<br />\n<span style="font-family:times new roman\,serif"><span style="font-size:14.0pt">The students spent the past few months studying poetry and improvisation with Nicole Cardano. Together\, they have focused on how sound and movement through the practice of improvisational theater can inspire the written word. Cardano has taught the students how improvisational techniques like &ldquo\;Yes And&rdquo\; can inspire them to embrace their own ideas. </span></span><br />\n&nbsp\;<br />\n<span style="font-family:times new roman\,serif"><span style="font-size:14.0pt">Cardano is the founder and executive director of Theater Today\, a nonprofit\, committed to the practice of theater as a social\, emotional and education tool. Also\, Cardano is the Arts Outreach Educator with The Grand Theater in Ellsworth\, as well as a Teaching Artist Leader with the Maine Arts Commission. She works with theater integration in the classroom in connection to curriculum studies and improving social skills amongst peers. </span></span><br />\n&nbsp\;<br />\n<span style="font-family:times new roman\,serif"><span style="font-size:14.0pt"><span>The Write Stuff is a collaborative program between Conners Emerson School\, MDI High School\, and the Jesup Memorial Library. The program is designed to help kids become storytellers in three different ways\, orally\, in writing and through poetry. The Write Stuff is funded by a grant from the Maine State Library with support from Machias Savings Bank. For more information\, contact program director Melinda Rice-Schoon at <span class="gc-cs-link" id="gc-number-0" title="Call with Google Voice">207-288-4245</span> or </span><a href="mailto:mrice@jesuplibrary.org">mrice@jesuplibrary.org</a></span>.</span><br />\n&nbsp\;
LOCATION:Jesup Memorial Library\, 34 Mt. Desert St.\, Bar Harbor\, ME 04609
UID:e.3061.8858
SEQUENCE:3
DTSTAMP:20260420T023527Z
URL:https://www.visitbarharbor.com/events/details/the-write-stuff-improv-and-poetry-8858
END:VEVENT

END:VCALENDAR
