BEGIN:VCALENDAR
VERSION:2.0
PRODID:-//ChamberMaster//Event Calendar 2.0//EN
METHOD:PUBLISH
X-PUBLISHED-TTL:P3D
REFRESH-INTERVAL:P3D
CALSCALE:GREGORIAN
BEGIN:VEVENT
DTSTART:20190210T000000Z
DTEND:20190210T030000Z
X-MICROSOFT-CDO-ALLDAYEVENT:FALSE
SUMMARY:The Summoning of the Flamingo of Love
DESCRIPTION:A magical play by Mike Perlman and directed by Mike Hambrock\, The Summoning of the Flamingo of Love is the tale of young Johan\, the Magical Prince of the Magical Swans\, and his quest to find his Magically Magical One True Magical Love. Johan finds help along the way from a group of rapping trees\, The Designers of the Pillow of Plaid\, wrestler Macho Ultimate\, and the star of the movie Footloose. An absurdist comedy extravaganza\, The Summoning of the Flamingo of Love promises to surprise and entertain.
X-ALT-DESC;FMTTYPE=text/html:A magical play by Mike Perlman and directed by Mike Hambrock\, The Summoning of the Flamingo of Love is the tale of young Johan\, the Magical Prince of the Magical Swans\, and his quest to find his Magically Magical One True Magical Love. Johan finds help along the way from a group of rapping trees\, The Designers of the Pillow of Plaid\, wrestler Macho Ultimate\, and the star of the movie Footloose. An absurdist comedy extravaganza\, The Summoning of the Flamingo of Love promises to surprise and entertain.
LOCATION:1932 Criterion Theatre 35 Cottage Street Bar Harbor\, ME 04609
UID:e.3061.5093
SEQUENCE:3
DTSTAMP:20260420T063250Z
URL:https://www.visitbarharbor.com/events/details/the-summoning-of-the-flamingo-of-love-02-09-2019-5093
END:VEVENT

END:VCALENDAR
