BEGIN:VCALENDAR
VERSION:2.0
PRODID:-//ChamberMaster//Event Calendar 2.0//EN
METHOD:PUBLISH
X-PUBLISHED-TTL:P3D
REFRESH-INTERVAL:P3D
CALSCALE:GREGORIAN
BEGIN:VEVENT
DTSTART:20180718T210000Z
DTEND:20180718T220000Z
X-MICROSOFT-CDO-ALLDAYEVENT:FALSE
SUMMARY:The President's Distinguished Lecture - Unlocking Our Regenerative Power: Nature's Regeneration Drug
DESCRIPTION:In this lecture\, MDI Biological Laboratory President Kevin Strange\, Ph.D.\, will discuss the laboratory's bold new approach to regenerative medicine and the advances that are being made by its scientists in the development of novel drug therapies to regenerate damaged organs and tissues.
X-ALT-DESC;FMTTYPE=text/html:In this lecture\, MDI Biological Laboratory President Kevin Strange\, Ph.D.\, will discuss the laboratory&#39\;s bold new approach to regenerative medicine and the advances that are being made by its scientists in the development of novel drug therapies to regenerate damaged organs and tissues.
LOCATION:Maine Center for Biomedical Innovation\, MDI Biological Laboratory
UID:e.3061.2971
SEQUENCE:3
DTSTAMP:20260420T183301Z
URL:https://www.visitbarharbor.com/events/details/the-president-s-distinguished-lecture-unlocking-our-regenerative-power-nature-s-regeneration-drug-2971
END:VEVENT

END:VCALENDAR
