BEGIN:VCALENDAR
VERSION:2.0
PRODID:-//ChamberMaster//Event Calendar 2.0//EN
METHOD:PUBLISH
X-PUBLISHED-TTL:P3D
REFRESH-INTERVAL:P3D
CALSCALE:GREGORIAN
BEGIN:VEVENT
DTSTART:20191029T201000Z
DTEND:20191029T213000Z
X-MICROSOFT-CDO-ALLDAYEVENT:FALSE
SUMMARY:The Power of Rivers: Dams in Northern Sweden
DESCRIPTION:Sara L wgren '20 joins the College of the Atlantic Human Ecology Forum to speak about her senior project exploring local perceptions of hydroelectric dams on the Lule river in Northern Sweden.
X-ALT-DESC;FMTTYPE=text/html:Sara L&ouml\;wgren &rsquo\;20 joins the College of the Atlantic Human Ecology Forum to speak about her senior project exploring local perceptions of hydroelectric dams on the Lule river in Northern Sweden.
LOCATION:College of the Atlantic - McCormick Lecture Hall
UID:e.3061.15119
SEQUENCE:3
DTSTAMP:20260419T174048Z
URL:https://www.visitbarharbor.com/events/details/the-power-of-rivers-dams-in-northern-sweden-15119
END:VEVENT

END:VCALENDAR
