BEGIN:VCALENDAR
VERSION:2.0
PRODID:-//ChamberMaster//Event Calendar 2.0//EN
METHOD:PUBLISH
X-PUBLISHED-TTL:P3D
REFRESH-INTERVAL:P3D
CALSCALE:GREGORIAN
BEGIN:VEVENT
DTSTART:20181019T210000Z
DTEND:20181020T000000Z
X-MICROSOFT-CDO-ALLDAYEVENT:FALSE
SUMMARY:The Nature of Halloween
DESCRIPTION:Join Acadia National Park rangers and COA students for a spooky evening of fun and learning at the Dorr Museum!
X-ALT-DESC;FMTTYPE=text/html:Join Acadia National Park rangers and COA students for a spooky evening of fun and learning at the Dorr Museum!
LOCATION:George B. Dorr Museum of Natural History
UID:e.3061.3946
SEQUENCE:3
DTSTAMP:20260420T134056Z
URL:https://www.visitbarharbor.com/events/details/the-nature-of-halloween-3946
END:VEVENT

END:VCALENDAR
