BEGIN:VCALENDAR
VERSION:2.0
PRODID:-//ChamberMaster//Event Calendar 2.0//EN
METHOD:PUBLISH
X-PUBLISHED-TTL:P3D
REFRESH-INTERVAL:P3D
CALSCALE:GREGORIAN
BEGIN:VEVENT
DTSTART:20191013T190000Z
DTEND:20191013T220000Z
X-MICROSOFT-CDO-ALLDAYEVENT:FALSE
SUMMARY:The Mystery of Irma Vep
DESCRIPTION:A theatrical penny dreadful by Charles Ludlam. This definitive spoof of Gothic melodramas is a quick change marathon in which two actors play all the roles! A sympathetic werewolf\, a vampire and an Egyptian princess brought to life when her tomb is opened make this a comedy that has everything. Directed\, performed\, and designed by local artists from Mount Desert Island.* Directed by Zabet Neucollins and Nathanael Lee. * Produced by special arrangement with Samuel French\, Inc
X-ALT-DESC;FMTTYPE=text/html:A theatrical penny dreadful by Charles Ludlam. This definitive spoof of Gothic melodramas is a quick change marathon in which two actors play all the roles! A sympathetic werewolf\, a vampire and an Egyptian princess brought to life when her tomb is opened make this a comedy that has everything. Directed\, performed\, and designed by local artists from Mount Desert Island.* Directed by Zabet Neucollins and Nathanael Lee. * Produced by special arrangement with Samuel French\, Inc
LOCATION:1932 Criterion Theatre 35 Cottage Street Bar Harbor\, ME 04609
UID:e.3061.15109
SEQUENCE:3
DTSTAMP:20260419T160215Z
URL:https://www.visitbarharbor.com/events/details/the-mystery-of-irma-vep-10-13-2019-15109
END:VEVENT

END:VCALENDAR
