BEGIN:VCALENDAR
VERSION:2.0
PRODID:-//ChamberMaster//Event Calendar 2.0//EN
METHOD:PUBLISH
X-PUBLISHED-TTL:P3D
REFRESH-INTERVAL:P3D
CALSCALE:GREGORIAN
BEGIN:VEVENT
DTSTART:20180512T170000Z
DTEND:20180512T190000Z
X-MICROSOFT-CDO-ALLDAYEVENT:FALSE
SUMMARY:The Mother March -- PEACE\, LOVE\, and the PLANET
DESCRIPTION:The Mother March is event for everyone to show their commitment to Peace\, Love\, and the Planet. It will a great day to spend in Acadia and connect in solidarity with folks who share a passion for creating a better world. A march through downtown Bar Harbor begins at 1 pm followed by a rally on the Village Green featuring music and speakers. Saturday\, May 12\, 1   3 pm on the Bar Harbor Village Green.\n\n\n\nThe Mother March is organized by Indivisible MDI. Please visit our website https://indivisiblemdi.wordpress.com or email indivisiblemdibh@gmail.com for more information.
X-ALT-DESC;FMTTYPE=text/html:<span style="color:rgb(34\, 34\, 34)\; font-family:arial\,verdana\,sans-serif\; font-size:12px">The Mother March is event for everyone to show their commitment to Peace\, Love\, and the Planet. It will a great day to spend in Acadia and connect in solidarity with folks who share a passion for creating a better world. A march through downtown Bar Harbor begins at 1 pm followed by a rally on the Village Green featuring music and speakers.&nbsp\;Saturday\, May 12\, 1 &ndash\; 3 pm on the Bar Harbor Village Green.</span><br />\n<br />\n<span style="color:rgb(34\, 34\, 34)\; font-family:arial\,verdana\,sans-serif\; font-size:12px">The Mother March is organized by Indivisible MDI. Please visit our website https://indivisiblemdi.wordpress.com or email indivisiblemdibh@gmail.com for more information.</span>
LOCATION:Bar Harbor Village Green
UID:e.3061.810
SEQUENCE:3
DTSTAMP:20260420T233242Z
URL:https://www.visitbarharbor.com/events/details/the-mother-march-peace-love-and-the-planet-810
END:VEVENT

END:VCALENDAR
