BEGIN:VCALENDAR
VERSION:2.0
PRODID:-//ChamberMaster//Event Calendar 2.0//EN
METHOD:PUBLISH
X-PUBLISHED-TTL:P3D
REFRESH-INTERVAL:P3D
CALSCALE:GREGORIAN
BEGIN:VEVENT
DTSTART:20190407T000000Z
DTEND:20190407T023000Z
X-MICROSOFT-CDO-ALLDAYEVENT:FALSE
SUMMARY:The Mallet Brothers band
DESCRIPTION:The Mallett Brothers Band is an independent Rock and Roll / Americana / Country band from Maine. Texas Hill Country Explore Magazine calls them "New England's wildly eclectic crew of genre rebels." With a style that ranges from alt-country to Americana\, Country\, Jam and Roots Rock\, theirs is a musical melting pot that's influenced equally by the singer/songwriter tradition as by harder rock\, classic country and psychedelic sounds. Their busy tour schedule since forming in 2009 has helped them to build a dedicated fanbase across the U.S. and beyond while still calling the state of Maine their home. With opening act from Portland\, Maine: Goldenoak\, returning to the Criterion stage! An emerging sound in the New England folk scene\, the sibling duo Zak and Lena Kendall started making music together as kids and the bond of brother and sister is evident in their carefully crafted songs\, poetic lyrics\, and flowing harmonies. For more information or to buy tickets visit www.criteriontheatre.org
X-ALT-DESC;FMTTYPE=text/html:The Mallett Brothers Band is an independent Rock and Roll / Americana / Country band from Maine. Texas Hill Country Explore Magazine calls them &ldquo\;New England&rsquo\;s wildly eclectic crew of genre rebels.&rdquo\; With a style that ranges from alt-country to Americana\, Country\, Jam and Roots Rock\, theirs is a musical melting pot that&#39\;s influenced equally by the singer/songwriter tradition as by harder rock\, classic country and psychedelic sounds. Their busy tour schedule since forming in 2009 has helped them to build a dedicated fanbase across the U.S. and beyond while still calling the state of Maine their home. With opening act from Portland\, Maine: Goldenoak\, returning to the Criterion stage! An emerging sound in the New England folk scene\, the sibling duo Zak and Lena Kendall started making music together as kids and the bond of brother and sister is evident in their carefully crafted songs\, poetic lyrics\, and flowing harmonies. For more information or to buy tickets visit www.criteriontheatre.org
LOCATION:1932 Criterion Theatre 35 Cottage Street Bar Harbor\, Me 04609
UID:e.3061.8457
SEQUENCE:3
DTSTAMP:20260420T043139Z
URL:https://www.visitbarharbor.com/events/details/the-mallet-brothers-band-8457
END:VEVENT

END:VCALENDAR
