BEGIN:VCALENDAR
VERSION:2.0
PRODID:-//ChamberMaster//Event Calendar 2.0//EN
METHOD:PUBLISH
X-PUBLISHED-TTL:P3D
REFRESH-INTERVAL:P3D
CALSCALE:GREGORIAN
BEGIN:VEVENT
DTSTART:20180620T233000Z
DTEND:20180621T003000Z
X-MICROSOFT-CDO-ALLDAYEVENT:FALSE
SUMMARY:The Magic of Fireflies: A Nature Program at Woodlawn
DESCRIPTION:Enjoy some midsummer night's magic being enlightened by and about fireflies. Lightning bugs send secret flash messages to one another find out how to decode their mysterious language. Bring a net and a jar to catch (and release) some fireflies.  Woodlawn's nature programs\, led by naturalist Lynn Havsall\, are a fun learning experience open for all ages. Children under 12 must be accompanied by an adult. Nature programs are free and open to the public. Donations\, however\, are greatly appreciated.\n\nSpace is limited.  Reservations are required at:  https://woodlawnmuseum.com/event/fireflies/
X-ALT-DESC;FMTTYPE=text/html:<p>Enjoy some midsummer night&rsquo\;s magic being enlightened by and about fireflies. Lightning bugs send secret flash messages to one another&hellip\;find out how to decode their mysterious language. Bring a net and a jar to catch (and release) some fireflies. &nbsp\;Woodlawn&rsquo\;s nature programs\, led by naturalist Lynn Havsall\, are a fun learning experience open for all ages. Children under 12 must be accompanied by an adult. Nature programs are free and open to the public. Donations\, however\, are greatly appreciated.</p>\n\n<p>Space is limited. &nbsp\;Reservations are required at:<strong>&nbsp\;&nbsp\;</strong><a href="https://woodlawnmuseum.com/event/fireflies/">https://woodlawnmuseum.com/event/fireflies/</a></p>\n
LOCATION:Woodlawn Museum 19 Black House Drive Ellsworth\, ME 04605
UID:e.3061.2175
SEQUENCE:3
DTSTAMP:20260420T200126Z
URL:https://www.visitbarharbor.com/events/details/the-magic-of-fireflies-a-nature-program-at-woodlawn-2175
END:VEVENT

END:VCALENDAR
