BEGIN:VCALENDAR
VERSION:2.0
PRODID:-//ChamberMaster//Event Calendar 2.0//EN
METHOD:PUBLISH
X-PUBLISHED-TTL:P3D
REFRESH-INTERVAL:P3D
CALSCALE:GREGORIAN
BEGIN:VEVENT
DTSTART:20180712T223000Z
DTEND:20180713T000000Z
X-MICROSOFT-CDO-ALLDAYEVENT:FALSE
SUMMARY:The Great Kapok Tree
DESCRIPTION:The Southwest Harbor Public Library's Family Concert Series continues on Thursday\, July 12 at 6:30 pm with a performance of the classic book\, The Great Kapok Tree\, by the Summer Story Campers. Barn Arts Collective Artist-in-Residence\, Anna Lublina\, will assist with the performance\, which will feature puppets made by the campers themselves. For more information\, contact the Library: 244-7065.
X-ALT-DESC;FMTTYPE=text/html:The Southwest Harbor Public Library&rsquo\;s Family Concert Series continues on Thursday\, July 12 at 6:30 pm with a performance of the classic book\, The Great Kapok Tree\, by the Summer Story Campers. Barn Arts Collective Artist-in-Residence\, Anna Lublina\, will assist with the performance\, which will feature puppets made by the campers themselves. For more information\, contact the Library: 244-7065.
LOCATION:Southwest Harbor Public Library
UID:e.3061.3069
SEQUENCE:3
DTSTAMP:20260420T195446Z
URL:https://www.visitbarharbor.com/events/details/the-great-kapok-tree-3069
END:VEVENT

END:VCALENDAR
