BEGIN:VCALENDAR
VERSION:2.0
PRODID:-//ChamberMaster//Event Calendar 2.0//EN
METHOD:PUBLISH
X-PUBLISHED-TTL:P3D
REFRESH-INTERVAL:P3D
CALSCALE:GREGORIAN
BEGIN:VEVENT
DTSTART:20181018T230000Z
DTEND:20181019T003000Z
X-MICROSOFT-CDO-ALLDAYEVENT:FALSE
SUMMARY:The Future of Conservation in America
DESCRIPTION:Former Science Advisor to the Director of the National Park Service Gary Machlis details present and impending threats to the environment and provides a powerful and lasting resource to the next generation of conservationist leaders at College of the Atlantic's Human Ecology Forum.
X-ALT-DESC;FMTTYPE=text/html:Former Science Advisor to the Director of the National Park Service Gary Machlis details present and impending threats to the environment and provides a powerful and lasting resource to the next generation of conservationist leaders at College of the Atlantic&rsquo\;s Human Ecology Forum.
LOCATION:College of the Atlantic Gates Community Center
UID:e.3061.3941
SEQUENCE:3
DTSTAMP:20260420T132420Z
URL:https://www.visitbarharbor.com/events/details/the-future-of-conservation-in-america-3941
END:VEVENT

END:VCALENDAR
