BEGIN:VCALENDAR
VERSION:2.0
PRODID:-//ChamberMaster//Event Calendar 2.0//EN
METHOD:PUBLISH
X-PUBLISHED-TTL:P3D
REFRESH-INTERVAL:P3D
CALSCALE:GREGORIAN
BEGIN:VEVENT
DTSTART:20180729T220000Z
DTEND:20180730T013000Z
X-MICROSOFT-CDO-ALLDAYEVENT:FALSE
SUMMARY:The Fine Art of Murder: A Seal Cove Auto Museum Production
DESCRIPTION:It's the summer of 1932 on Mount Desert Island\, Maine. Prohibition is in effect and the tourists are thirsty. Cars are faster and bank robbers are taking the Midwest by storm. The police are out gunned\, and the newspapers are poking fun. J. Edgar Hoover has decided Dillinger is public enemy number one.\n\nWinston Peabody\, a wealthy manufacturer of automobiles\, has recently come to Bar Harbor for vacation with his wife. Winston plans to launch an advertising campaign for his new car models and has invited two\, competing illustrators to visit with him and his wife while they are in Bar Harbor. But their plans go awry when a murder occurs!\n\nThe Seal Cove Auto Museum presents The Fine Art of Murder\, an original murder mystery by authors/playwrights Robert and Robin Lawton. The events of this play will unfold before your eyes during the course of the evening\, and it is up to YOU to follow the clues and determine the killer\, while enjoying dinner among the Museum's collection of elegant antique cars.\n\nThe evening will include a seated dinner\, our signature Rusticator Rum punch cocktail\, prizes for those who determine the killer\, and commemorative wine glasses to take home. Period costumes encouraged but optional. $100 for members\, $125 for non-members. You may purchase your tickets online\, or call 207-244-9242 to reserve your space now!
X-ALT-DESC;FMTTYPE=text/html:<p>It&rsquo\;s the summer of 1932 on Mount Desert Island\, Maine. Prohibition is in effect and the tourists are thirsty. Cars are faster and bank robbers are taking the Midwest by storm. The police are out gunned\, and the newspapers are poking fun. J. Edgar Hoover has decided Dillinger is public enemy number one.</p>\n\n<p>Winston Peabody\, a wealthy manufacturer of automobiles\, has recently come to Bar Harbor for vacation with his wife. Winston plans to launch an advertising campaign for his new car models and has invited two\, competing illustrators to visit with him and his wife while they are in Bar Harbor. But their plans go awry when a murder occurs!</p>\n\n<p>The Seal Cove Auto Museum presents&nbsp\;<em>The Fine Art of Murder</em>\, an original murder mystery by authors/playwrights&nbsp\;<a href="http://rlawtonsquared.com/" style="box-sizing: border-box\; margin: 0px\; padding: 0px\; border: 0px\; outline: 0px\; background: transparent\; vertical-align: baseline\; color: rgb(205\, 92\, 92)\; text-decoration-line: none\;">Robert and Robin Lawton</a>. The events of this play will unfold before your eyes during the course of the evening\, and it is up to YOU to follow the clues and determine the killer\, while enjoying dinner among the Museum&rsquo\;s collection of elegant antique cars.</p>\n\n<p>The evening will include a seated dinner\, our signature Rusticator Rum punch cocktail\, prizes for those who determine the killer\, and commemorative wine glasses to take home. Period costumes encouraged but optional. $100 for members\, $125 for non-members. You may purchase your tickets online\, or call 207-244-9242 to reserve your space now!</p>\n
LOCATION:Seal Cove Auto Museum
UID:e.3061.3024
SEQUENCE:3
DTSTAMP:20260420T183329Z
URL:https://www.visitbarharbor.com/events/details/the-fine-art-of-murder-a-seal-cove-auto-museum-production-3024
END:VEVENT

END:VCALENDAR
