BEGIN:VCALENDAR
VERSION:2.0
PRODID:-//ChamberMaster//Event Calendar 2.0//EN
METHOD:PUBLISH
X-PUBLISHED-TTL:P3D
REFRESH-INTERVAL:P3D
CALSCALE:GREGORIAN
BEGIN:VEVENT
DTSTART:20191014T170000Z
DTEND:20191014T200000Z
X-MICROSOFT-CDO-ALLDAYEVENT:FALSE
SUMMARY:The Fascinating World of Lobster and Historic Maine Cooking
DESCRIPTION:Learn all about the fascinating world of Lobster and Historic Maine cooking.\n\n\n\nSharon Joyce\, a Cordon Bleu-trained chef and author\, will explain the history and seasonal foods of Maine. You will learn food facts\, techniques\, history\, and traditional recipes while tasting such favorites as lobster\, seafood\, Maine wild blueberries\, etc. You will be able to impress others with your new knowledge of everything lobster. Opportunities to assist the chef will be available. During the class\, you will have a taste of everything made and be given written recipes to be used at home to enjoy with your friends and family. Class lasts 3 hours  $75.00
X-ALT-DESC;FMTTYPE=text/html:Learn all about the fascinating world of Lobster and Historic Maine cooking.<br />\n<br />\nSharon Joyce\, a Cordon Bleu-trained chef and author\, will explain the history and seasonal foods of Maine. You will learn food facts\, techniques\, history\, and traditional recipes while tasting such favorites as lobster\, seafood\, Maine wild blueberries\, etc. You will be able to impress others with your new knowledge of everything lobster. Opportunities to assist the chef will be available. During the class\, you will have a taste of everything made and be given written recipes to be used at home to enjoy with your friends and family. Class lasts 3 hours&nbsp\; $75.00
LOCATION:Ambrosia Cooking School 19 Rodick Street Bar Harbor\, Maine 04609
UID:e.3061.11425
SEQUENCE:3
DTSTAMP:20260419T160422Z
URL:https://www.visitbarharbor.com/events/details/the-fascinating-world-of-lobster-and-historic-maine-cooking-10-14-2019-11425
END:VEVENT

END:VCALENDAR
