BEGIN:VCALENDAR
VERSION:2.0
PRODID:-//ChamberMaster//Event Calendar 2.0//EN
METHOD:PUBLISH
X-PUBLISHED-TTL:P3D
REFRESH-INTERVAL:P3D
CALSCALE:GREGORIAN
BEGIN:VEVENT
DTSTART:20181103T223000Z
DTEND:20181104T000000Z
X-MICROSOFT-CDO-ALLDAYEVENT:FALSE
SUMMARY:The Dream Gathering with Author Kristen Britain
DESCRIPTION:Celebrate 20 years of the "Green Rider" with author Kristen Britain at the "Dream Gathering" on Saturday\, Nov. 3 at 6:30 p.m. at the Jesup Memorial Library. Britain will be there to celebrate not only the 20 years and six more books released since but she will also be celebrating the launch of her new book "The Dream Gatherer" which features a novella and two short stories set in the world of "Green Rider." The titular story features the Berry Sisters\, and the short stories include the story Green Rider Danalong while the other is the full story of one mentioned in Britain's book "Firebrand."\n\nPublishers Weekly writes that in the "Green Rider" series "Britain keeps the excitement high from beginning to end\, balancing epic magical battles with the humor and camaraderie of Karigan and her fellow riders."\n\nFor the night the Jesup will be turned into Professor Berry's library from the books. Explore the wonders of Professor Berry's library and examine the many arcane artifacts that have been collected from the land of Sacoridia and beyond. There will be tasty food as well. Costumes are welcome\, but not required for this fun\, family friendly event.  \n\nBooks will be on sale that night courtesy of co-sponsor Sherman's Books. For more information about the event contact the Jesup at 207-288-4245 or mrice@jesuplibrary.org.
X-ALT-DESC;FMTTYPE=text/html:<p>Celebrate 20 years of the &ldquo\;Green Rider&rdquo\; with author Kristen Britain at the &ldquo\;Dream Gathering&rdquo\; on Saturday\, Nov. 3 at 6:30 p.m. at the Jesup Memorial Library. Britain will be there to celebrate not only the 20 years and six more books released since but she will also be celebrating the launch of her new book &ldquo\;The Dream Gatherer&rdquo\; which features a novella and two short stories set in the world of &ldquo\;Green Rider.&rdquo\; The titular story features the Berry Sisters\, and the short stories include the story Green Rider Danalong while the other is the full story of one mentioned in Britain&rsquo\;s book &ldquo\;Firebrand.&rdquo\;</p>\n\n<p><em>Publishers Weekly</em> writes that in the &ldquo\;Green Rider&rdquo\; series &ldquo\;Britain keeps the excitement high from beginning to end\, balancing epic magical battles with the humor and camaraderie of Karigan and her fellow riders.&rdquo\;</p>\n\n<p>For the night the Jesup will be turned into Professor Berry&#39\;s library from the books. Explore the wonders of Professor Berry&#39\;s library and examine the many arcane artifacts that have been collected from the land of Sacoridia and beyond. There will be tasty food as well. Costumes are welcome\, but not required for this fun\, family friendly event. &nbsp\;</p>\n\n<p><span>Books will be on sale that night courtesy of co-sponsor Sherman&rsquo\;s Books. For more information about the event contact the Jesup at <span class="gc-cs-link" id="gc-number-0" title="Call with Google Voice">207-288-4245</span> or </span><a href="mailto:mrice@jesuplibrary.org">mrice@jesuplibrary.org</a>.</p>\n
LOCATION:Jesup Memorial Library\, 34 Mt. Desert St.\, Bar Harbor\, ME 04609
UID:e.3061.4234
SEQUENCE:3
DTSTAMP:20260420T114400Z
URL:https://www.visitbarharbor.com/events/details/the-dream-gathering-with-author-kristen-britain-4234
END:VEVENT

END:VCALENDAR
