BEGIN:VCALENDAR
VERSION:2.0
PRODID:-//ChamberMaster//Event Calendar 2.0//EN
METHOD:PUBLISH
X-PUBLISHED-TTL:P3D
REFRESH-INTERVAL:P3D
CALSCALE:GREGORIAN
BEGIN:VEVENT
DTSTART:20190404T230000Z
DTEND:20190405T023000Z
X-MICROSOFT-CDO-ALLDAYEVENT:FALSE
SUMMARY:The Best of The Second City
DESCRIPTION:Chicago's legendary sketch and improv comedy theater comes to the Criterion with "The Best of The Second City." This must-see show features the best sketches and songs from The Second City's history made famous by superstars like Tina Fey\, Stephen Colbert\, Steve Carell\, Gilda Radner\, Bill Murray and more--as well as their trademark improvisation. Come see where it all began during this special one-night engagement. Fresh\, fast and always spectacularly funny\, The Second City is celebrating nearly sixty years of producing cutting-edge satirical revues and launching the careers of generation after generation of comedy's best and brightest.
X-ALT-DESC;FMTTYPE=text/html:Chicago&rsquo\;s legendary sketch and improv comedy theater comes to the Criterion with &ldquo\;The Best of The Second City.&rdquo\; This must-see show features the best sketches and songs from The Second City&rsquo\;s history made famous by superstars like Tina Fey\, Stephen Colbert\, Steve Carell\, Gilda Radner\, Bill Murray and more--as well as their trademark improvisation. Come see where it all began during this special one-night engagement. Fresh\, fast and always spectacularly funny\, The Second City is celebrating nearly sixty years of producing cutting-edge satirical revues and launching the careers of generation after generation of comedy&rsquo\;s best and brightest.
LOCATION:1932 Criterion Theatre 35 Cottage Street Bar Harbor\, ME 04609
UID:e.3061.5107
SEQUENCE:3
DTSTAMP:20260420T024034Z
URL:https://www.visitbarharbor.com/events/details/the-best-of-the-second-city-5107
END:VEVENT

END:VCALENDAR
