BEGIN:VCALENDAR
VERSION:2.0
PRODID:-//ChamberMaster//Event Calendar 2.0//EN
METHOD:PUBLISH
X-PUBLISHED-TTL:P3D
REFRESH-INTERVAL:P3D
CALSCALE:GREGORIAN
BEGIN:VEVENT
DTSTART:20190406T163000Z
DTEND:20190406T193000Z
X-MICROSOFT-CDO-ALLDAYEVENT:FALSE
SUMMARY:The Art Of Allowing
DESCRIPTION:an Azul Conscious Movement workshop with Marli Thibodeau\n\n$45/$30\n\nThe Path of Azul \n\nAzul is a conscious movement practice and a path of personal transformation that supports the awakening of consciousness.  Azul recognizes that\, as we transform ourselves we create the conditions for our world to transform.  Azul harnesses the bodies intelligence to facilitate inner healing and evolution and utilizes movement combined with a psycho-spiritual approach as a vehicle for exploration.\n\nFor more information: marli@illuminatedlife.org    207-751-5258\n\n \n\nAbout the Instructor\n\n \n\n\n\nMARLI THIBODEAU - AZUL TEACHER\n\nWhen I hit my 50's\, I got honest about a few things.  I stopped coloring my hair\, broke up with wine\, lost 25 lbs. and began dancing as a way to feel more alive.  It was through the doorway of dance that I found my way back home to myself.   As a kid\, I moved around a lot out in nature\, always curious\, always exploring.\, which led me to a decade of training in a nature based spiritual martial art\, a non- competitive form using both hard and soft movement. I learned about how movement inspires life. As an artist I discovered conscious dance\, and have been studying conscious movement ever since. I recently completed my Azul apprenticeship in 2018 am now teaching Azul workshops.
X-ALT-DESC;FMTTYPE=text/html:<pre>\n&nbsp\;</pre>\n\n<p><em>an Azul Conscious Movement workshop with Marli Thibodeau</em></p>\n\n<p>$45/$30</p>\n\n<p>The Path of Azul&nbsp\;</p>\n\n<p>Azul is a conscious movement practice and a path of personal transformation that supports the awakening of consciousness.&nbsp\; Azul recognizes that\, as we transform ourselves we create the conditions for our world to transform.&nbsp\; Azul harnesses the bodies intelligence to facilitate inner healing and evolution and utilizes movement combined with a psycho-spiritual approach as a vehicle for exploration.</p>\n\n<p>For more information:&nbsp\;<a href="http://marli@illuminatedlife.org/" style="margin: 0px\; padding: 0px\; border: 0px\; outline: 0px\; vertical-align: baseline\; background: 0px 0px\; cursor: pointer\; box-sizing: border-box\; color: rgb(247\, 65\, 0)\; font: inherit\;" target="_blank">marli@illuminatedlife.org</a><span>&nbsp\; &nbsp\; <span class="gc-cs-link" id="gc-number-0" title="Call with Google Voice">207-751-5258</span></span><br />\n&nbsp\;</p>\n\n<h3>About the Instructor</h3>\n\n<div style="background:0px 0px\; border:0px\; padding:0px">&nbsp\;</div>\n\n<div style="background:0px 0px\; border:0px\; padding:17px 0px 0px">\n<div style="background:0px 0px\; border:0px\; padding:0px">\n<p>MARLI THIBODEAU - AZUL TEACHER</p>\n\n<p>When I hit my 50&#39\;s\, I got honest about a few things.&nbsp\; I stopped coloring my hair\, broke up with wine\, lost 25 lbs. and began dancing as a way to feel more alive.&nbsp\;&nbsp\;<span style="background-color:initial">It was through the doorway of dance that I found my way back home to myself.&nbsp\; &nbsp\;</span><span style="background-color:initial">As a kid\, I moved around a lot out in nature\, always curious\, always exploring.\, which led me to a decade of training in a nature based spiritual martial art\, a non- competitive form using both hard and soft movement. I learned about how movement inspires life. As an artist I discovered conscious dance\, and have been studying conscious movement ever since. I recently completed my Azul apprenticeship in 2018 am now teaching Azul workshops.</span></p>\n</div>\n</div>\n
LOCATION:ArtWaves 1344 State Hwy By Town Hill Market Bar Harbor
UID:e.3061.5358
SEQUENCE:3
DTSTAMP:20260420T023943Z
URL:https://www.visitbarharbor.com/events/details/the-art-of-allowing-5358
END:VEVENT

END:VCALENDAR
