BEGIN:VCALENDAR
VERSION:2.0
PRODID:-//ChamberMaster//Event Calendar 2.0//EN
METHOD:PUBLISH
X-PUBLISHED-TTL:P3D
REFRESH-INTERVAL:P3D
CALSCALE:GREGORIAN
BEGIN:VEVENT
DTSTART:20191122T210000Z
DTEND:20191123T000000Z
X-MICROSOFT-CDO-ALLDAYEVENT:FALSE
SUMMARY:Thanksgiving Wine Tasting
DESCRIPTION:Our recommendations for your Thanksgiving table.
X-ALT-DESC;FMTTYPE=text/html:Our recommendations for your Thanksgiving table.
LOCATION:House Wine 227a Main Street Bar Harbor
UID:e.3061.16300
SEQUENCE:3
DTSTAMP:20260419T155227Z
URL:https://www.visitbarharbor.com/events/details/thanksgiving-wine-tasting-16300
END:VEVENT

END:VCALENDAR
