BEGIN:VCALENDAR
VERSION:2.0
PRODID:-//ChamberMaster//Event Calendar 2.0//EN
METHOD:PUBLISH
X-PUBLISHED-TTL:P3D
REFRESH-INTERVAL:P3D
CALSCALE:GREGORIAN
BEGIN:VEVENT
DTSTART:20181102T230000Z
DTEND:20181103T003000Z
X-MICROSOFT-CDO-ALLDAYEVENT:FALSE
SUMMARY:Tell Me the Truth: Exploring the heart of cross-racial conversations
DESCRIPTION:An intimate conversation between two friends followed by community dialogue. Featuring Shay Stewart Bouley\, blogger\, Black Girl in Maine\, Executive Director\, Community Change\, Inc.\, and Debby Irving\, author Waking Up White\, racial justice educator and writer.\n\n\n\nSponsored by YWCA MDI\, Indivisible MDI\, Mount Desert Island High School National Honor Society and other community organizations.
X-ALT-DESC;FMTTYPE=text/html:An intimate conversation between two friends followed by community dialogue. Featuring Shay Stewart Bouley\, blogger\, Black Girl in Maine\, Executive Director\, Community Change\, Inc.\, and Debby Irving\, author Waking Up White\, racial justice educator and writer.<br />\n<br />\nSponsored by YWCA MDI\, Indivisible MDI\, Mount Desert Island High School National Honor Society and other community organizations.
LOCATION:Mount Desert Island High School Auditorium\, 1081 Eagle Lake Rd\, Bar Harbor\, ME 04609
UID:e.3061.4277
SEQUENCE:3
DTSTAMP:20260420T132911Z
URL:https://www.visitbarharbor.com/events/details/tell-me-the-truth-exploring-the-heart-of-cross-racial-conversations-4277
END:VEVENT

END:VCALENDAR
