BEGIN:VCALENDAR
VERSION:2.0
PRODID:-//ChamberMaster//Event Calendar 2.0//EN
METHOD:PUBLISH
X-PUBLISHED-TTL:P3D
REFRESH-INTERVAL:P3D
CALSCALE:GREGORIAN
BEGIN:VEVENT
DTSTART:20190206T230000Z
DTEND:20190207T003000Z
X-MICROSOFT-CDO-ALLDAYEVENT:FALSE
SUMMARY:Teenagers\, Immature Brains\, and the Risks of Addiction
DESCRIPTION:Dick Dimond\, a retired physician\, the Steering Committee Chair of the Hancock County Adult Drug Treatment Court\, and a Board member of the Acadia Family Center\, will speak at the Southwest Harbor Public Library about the serious health care crisis of addiction. It's known that individuals under the age of 23-25 are at increased risk of developing a substance use disorder because of the immaturity of their brains. This talk will explore some of the issues involved and promote prevention and education. For more information\, please call the Library\, 244-7065.
X-ALT-DESC;FMTTYPE=text/html:Dick Dimond\, a retired physician\, the Steering Committee Chair of the Hancock County Adult Drug Treatment Court\, and a Board member of the Acadia Family Center\, will speak at the Southwest Harbor Public Library about the serious health care crisis of addiction. It&rsquo\;s known that individuals under the age of 23-25 are at increased risk of developing a substance use disorder because of the immaturity of their brains. This talk will explore some of the issues involved and promote prevention and education. For more information\, please call the Library\, 244-7065.
LOCATION:Southwest Harbor Public Library
UID:e.3061.4864
SEQUENCE:3
DTSTAMP:20260420T063138Z
URL:https://www.visitbarharbor.com/events/details/teenagers-immature-brains-and-the-risks-of-addiction-4864
END:VEVENT

END:VCALENDAR
