BEGIN:VCALENDAR
VERSION:2.0
PRODID:-//ChamberMaster//Event Calendar 2.0//EN
METHOD:PUBLISH
X-PUBLISHED-TTL:P3D
REFRESH-INTERVAL:P3D
CALSCALE:GREGORIAN
BEGIN:VEVENT
DTSTART:20190429T213000Z
DTEND:20190429T230000Z
X-MICROSOFT-CDO-ALLDAYEVENT:FALSE
SUMMARY:Teen Jazz
DESCRIPTION:Teen Jazz & Tap Class!\n\nMonday\, April 29\, 2019\n\n5:30pm-7:00pm\n\nArtWaves 1345 State Highway 102\, Bar Harbor\, ME\, USA\n\n\n4 weeks of Jazz and Tap with Two Shoes Dance!\n\nHeld at the ArtWaves Dance Studio.\n\nRegister with Tami at 2shoesdance@gmail.com
X-ALT-DESC;FMTTYPE=text/html:<div>Teen Jazz &amp\; Tap Class!</div>\n\n<div>Monday\, April 29\, 2019</div>\n\n<div>5:30pm-7:00pm</div>\n\n<div><a class="link-if-href ng-binding" href="http://maps.google.com/?q=ArtWaves%201345%20State%20Highway%20102%2C%20Bar%20Harbor%2C%20ME%2C%20USA" style="color: inherit\; cursor: pointer\; text-decoration-line: none\; outline: none\;" target="_blank">ArtWaves 1345 State Highway 102\, Bar Harbor\, ME\, USA</a></div>\n\n<div>\n<div>4 weeks of Jazz and Tap with Two Shoes Dance!<br />\nHeld at the ArtWaves Dance Studio.<br />\nRegister with Tami at 2shoesdance@gmail.com</div>\n</div>\n
LOCATION:1345 State HWY 102 Village of Town Hill \, Bar Harbor ME
UID:e.3061.8969
SEQUENCE:3
DTSTAMP:20260420T023615Z
URL:https://www.visitbarharbor.com/events/details/teen-jazz-8969
END:VEVENT

END:VCALENDAR
