BEGIN:VCALENDAR
VERSION:2.0
PRODID:-//ChamberMaster//Event Calendar 2.0//EN
METHOD:PUBLISH
X-PUBLISHED-TTL:P3D
REFRESH-INTERVAL:P3D
CALSCALE:GREGORIAN
BEGIN:VEVENT
DTSTART:20190318T140000Z
DTEND:20190318T180000Z
X-MICROSOFT-CDO-ALLDAYEVENT:FALSE
SUMMARY:Tech Mindset: For Lawyers
DESCRIPTION:If you're a lawyer looking to add the tech mindset to your practice\, this workshop is for you. Led by David Charron of Compusult and Nicole Ouellettte of Breaking Even Communications\, this workshop will be both a hands on time to accomplish important tech tasks and a look forward at upcoming technologies. Tech Mindset: For Lawyers will cover online case management\, secure document collaboration\, sales funnels (from inquiry to client)\, password management\, secure email\, esignatures\, email retention for e-Discovery\, low cost per lead ads\, and using automation to perform timely customer service. You should attend this workshop if: You want to increase your billable hours. You want to understand which clients/projects yield the highest profit (not just the highest revenue). You want to decrease your costs for high quality leads. You want to know how your website is and isn't working for your practice. You care about the security of your clients' (and your own) data. You want to learn about technologies coming up in the field. Lunch will be served. RSVP and learn more: https://anchorspace.com/tech-mindset-for-lawyers/
X-ALT-DESC;FMTTYPE=text/html:If you&rsquo\;re a lawyer looking to add the tech mindset to your practice\, this workshop is for you. Led by David Charron of Compusult and Nicole Ouellettte of Breaking Even Communications\, this workshop will be both a hands on time to accomplish important tech tasks and a look forward at upcoming technologies. Tech Mindset: For Lawyers will cover online case management\, secure document collaboration\, sales funnels (from inquiry to client)\, password management\, secure email\, esignatures\, email retention for e-Discovery\, low cost per lead ads\, and using automation to perform timely customer service. You should attend this workshop if: You want to increase your billable hours. You want to understand which clients/projects yield the highest profit (not just the highest revenue). You want to decrease your costs for high quality leads. You want to know how your website is and isn&rsquo\;t working for your practice. You care about the security of your clients&rsquo\; (and your own) data. You want to learn about technologies coming up in the field. Lunch will be served. RSVP and learn more: https://anchorspace.com/tech-mindset-for-lawyers/
LOCATION:Anchorspace Ellsworth 53 Oak Street Ellsworth ME 04605
UID:e.3061.5108
SEQUENCE:3
DTSTAMP:20260420T042814Z
URL:https://www.visitbarharbor.com/events/details/tech-mindset-for-lawyers-5108
END:VEVENT

END:VCALENDAR
