BEGIN:VCALENDAR
VERSION:2.0
PRODID:-//ChamberMaster//Event Calendar 2.0//EN
METHOD:PUBLISH
X-PUBLISHED-TTL:P3D
REFRESH-INTERVAL:P3D
CALSCALE:GREGORIAN
BEGIN:VEVENT
DTSTART:20190221T190000Z
DTEND:20190221T203000Z
X-MICROSOFT-CDO-ALLDAYEVENT:FALSE
SUMMARY:Tea at the SWH Library
DESCRIPTION:Everyone is welcome to enjoy a cup of tea by the Library's fireplace\, nibble on homemade treats\, and enjoy the company of others. Ruth Grierson and friends will provide live music. For more information please call the Library at 244-7065.
X-ALT-DESC;FMTTYPE=text/html:Everyone is welcome to enjoy a cup of tea by the Library&#39\;s fireplace\, nibble on homemade treats\, and enjoy the company of others. Ruth Grierson and friends will provide live music. For more information please call the Library at 244-7065.
LOCATION:Southwest Harbor Public Library
UID:e.3061.4839
SEQUENCE:3
DTSTAMP:20260420T062502Z
URL:https://www.visitbarharbor.com/events/details/tea-at-the-swh-library-02-21-2019-4839
END:VEVENT

END:VCALENDAR
