BEGIN:VCALENDAR
VERSION:2.0
PRODID:-//ChamberMaster//Event Calendar 2.0//EN
METHOD:PUBLISH
X-PUBLISHED-TTL:P3D
REFRESH-INTERVAL:P3D
CALSCALE:GREGORIAN
BEGIN:VEVENT
DTSTART:20190327T220000Z
DTEND:20190328T010000Z
X-MICROSOFT-CDO-ALLDAYEVENT:FALSE
SUMMARY:Taping of The Nite Show with Danny Cashman
DESCRIPTION:Ever wanted to see a late night talk show in person\, but can't make it to New York or L.A.? Ever wanted to see local entertainment television be produced first hand? Ever just want to get out of the house and leave the chores for another night? NOW YOU CAN! "The Nite Show with Danny Cashman" is filmed before a live studio audience at The Gracie Theatre at Husson University in beautiful Bangor\, Maine. Tapings begin at 6 p.m.\, but we ask that you arrive no later than 5:45 p.m. We ask that all audience members be at least 14 years or older. Moe's Bar-B-Que is available for purchase in the Atrium. No food or drink may be taken into the Theatre. There is no charge\, but paper or e-tickets must be presented for admission to The Nite Show. Thanks for your interest. We look forward to seeing you at the next taping of "The Nite Show with Danny Cashman!"
X-ALT-DESC;FMTTYPE=text/html:Ever wanted to see a late night talk show in person\, but can&#39\;t make it to New York or L.A.? Ever wanted to see local entertainment television be produced first hand? Ever just want to get out of the house and leave the chores for another night? NOW YOU CAN! &quot\;The Nite Show with Danny Cashman&quot\; is filmed before a live studio audience at The Gracie Theatre at Husson University in beautiful Bangor\, Maine. Tapings begin at 6 p.m.\, but we ask that you arrive no later than 5:45 p.m. We ask that all audience members be at least 14 years or older. Moe&#39\;s Bar-B-Que is available for purchase in the Atrium. No food or drink may be taken into the Theatre. There is no charge\, but paper or e-tickets must be presented for admission to The Nite Show. Thanks for your interest. We look forward to seeing you at the next taping of &quot\;The Nite Show with Danny Cashman!&quot\;
LOCATION:The Gracie Theatre One College Circle @ Husson University Bangor\, ME
UID:e.3061.3924
SEQUENCE:3
DTSTAMP:20260420T043957Z
URL:https://www.visitbarharbor.com/events/details/taping-of-the-nite-show-with-danny-cashman-03-27-2019-3924
END:VEVENT

END:VCALENDAR
