BEGIN:VCALENDAR
VERSION:2.0
PRODID:-//ChamberMaster//Event Calendar 2.0//EN
METHOD:PUBLISH
X-PUBLISHED-TTL:P3D
REFRESH-INTERVAL:P3D
CALSCALE:GREGORIAN
BEGIN:VEVENT
DTSTART:20200721T213000Z
DTEND:20200721T223000Z
X-MICROSOFT-CDO-ALLDAYEVENT:FALSE
SUMMARY:Tam’s Jam
DESCRIPTION:with Tami Willis. An original\, one hour\, dance fitness class created by Tami Willis. If you enjoyed fitness classes or Zumba with Tami in previous years\, you will love Tam's Jam! Students should bring need indoor-only dance fitness sneakers or sneakers with little tread.
X-ALT-DESC;FMTTYPE=text/html:with Tami Willis. An original\, one hour\, dance fitness class created by Tami Willis. If you enjoyed fitness classes or Zumba with Tami in previous years\, you will love Tam&#39\;s Jam! Students should bring need indoor-only dance fitness sneakers or sneakers with little tread.&nbsp\;&nbsp\;
LOCATION:ArtWaves\, 1345-A State Highway 102\, Bar Harbor.
UID:e.3061.23017
SEQUENCE:3
DTSTAMP:20260422T013213Z
URL:https://www.visitbarharbor.com/events/details/tam-s-jam-07-21-2020-23017
END:VEVENT

END:VCALENDAR
