BEGIN:VCALENDAR
VERSION:2.0
PRODID:-//ChamberMaster//Event Calendar 2.0//EN
METHOD:PUBLISH
X-PUBLISHED-TTL:P3D
REFRESH-INTERVAL:P3D
CALSCALE:GREGORIAN
BEGIN:VEVENT
DTSTART:20180723T223000Z
DTEND:20180724T000000Z
X-MICROSOFT-CDO-ALLDAYEVENT:FALSE
SUMMARY:Tall Tales\, Fish Tails\, & Damn Lies
DESCRIPTION:A night of music and words from a fishing community. Enjoy storytelling from Bob Quinn and Dennis Damon\, and musical acts Hank Whitsett\, Frank Gotwals\, Church of the Morning After\, and Paul Anderson and the Intinerate Visitors. Don't miss this fun and lively evening\, which benefits Maine Center for Coastal Fisheries\, a nonprofit securing a sustainable future for local fisheries and communities. Tickets are $15 in advance\, $20 at the door.
X-ALT-DESC;FMTTYPE=text/html:<span style="font-size:14px"><span style="font-family:times new roman">A night of music and words from a fishing community. Enjoy storytelling from Bob Quinn and Dennis Damon\, and musical acts Hank Whitsett\, Frank Gotwals\, Church of the Morning After\, and Paul Anderson and the Intinerate Visitors. Don&rsquo\;t miss this fun and lively evening\, which benefits Maine Center for Coastal Fisheries\, a nonprofit securing a sustainable future for local fisheries and communities. Tickets are $15 in advance\, $20 at the door. </span></span>
LOCATION:Opera House Arts 1 Opera House Ln Stonington\, ME 04681
UID:e.3061.3016
SEQUENCE:3
DTSTAMP:20260420T183011Z
URL:https://www.visitbarharbor.com/events/details/tall-tales-fish-tails-damn-lies-3016
END:VEVENT

END:VCALENDAR
