BEGIN:VCALENDAR
VERSION:2.0
PRODID:-//ChamberMaster//Event Calendar 2.0//EN
METHOD:PUBLISH
X-PUBLISHED-TTL:P3D
REFRESH-INTERVAL:P3D
CALSCALE:GREGORIAN
BEGIN:VEVENT
DTSTART:20191005T000000Z
DTEND:20191005T020000Z
X-MICROSOFT-CDO-ALLDAYEVENT:FALSE
SUMMARY:Talisk
DESCRIPTION:Barely four years since their formation\, Talisk have already stacked up several major awards for their pyrotechnic yet artfully woven sound. Mohsen Amini (the BBC Radio 2 Folk Awards' Musician of the Year 2018)\, Hayley Keenan and Graeme Armstrong meld concertina\, fiddle and guitar seamlessly together\, to produce a unique force that has taken them to many corners of Europe\, throughout the UK on headline tours\, to the USA\, Canada and Australia. The trio's unique sonic signature has captivated audiences at world- leading festivals\, including the Cambridge Folk Festival\, Denmark's T nder\, Celtic Colours in Cape Breton\, Fairport's Cropredy Convention\, Celtic Connections and Brittany's Festival Interceltique de Lorient. Whilst their touring history may far bely their years\, so to does their unfailing energy and stage presence. With a second album in the pipeline\, alongside heavy touring throughout 2018 and beyond\, theirs remains a star firmly and rapidly on the ascent.
X-ALT-DESC;FMTTYPE=text/html:Barely four years since their formation\, Talisk have already stacked up several major awards for their pyrotechnic yet artfully woven sound. Mohsen Amini (the BBC Radio 2 Folk Awards&rsquo\; Musician of the Year 2018)\, Hayley Keenan and Graeme Armstrong meld concertina\, fiddle and guitar seamlessly together\, to produce a unique force that has taken them to many corners of Europe\, throughout the UK on headline tours\, to the USA\, Canada and Australia. The trio&rsquo\;s unique sonic signature has captivated audiences at world- leading festivals\, including the Cambridge Folk Festival\, Denmark&rsquo\;s T&oslash\;nder\, Celtic Colours in Cape Breton\, Fairport&rsquo\;s Cropredy Convention\, Celtic Connections and Brittany&rsquo\;s Festival Interceltique de Lorient. Whilst their touring history may far bely their years\, so to does their unfailing energy and stage presence. With a second album in the pipeline\, alongside heavy touring throughout 2018 and beyond\, theirs remains a star firmly and rapidly on the ascent.
LOCATION:1932 Criterion Theatre 35 Cottage Street Bar Harbor\, ME 04609
UID:e.3061.14257
SEQUENCE:3
DTSTAMP:20260419T155037Z
URL:https://www.visitbarharbor.com/events/details/talisk-14257
END:VEVENT

END:VCALENDAR
