BEGIN:VCALENDAR
VERSION:2.0
PRODID:-//ChamberMaster//Event Calendar 2.0//EN
METHOD:PUBLISH
X-PUBLISHED-TTL:P3D
REFRESH-INTERVAL:P3D
CALSCALE:GREGORIAN
BEGIN:VEVENT
DTSTART:20180709T170000Z
DTEND:20180709T190000Z
X-MICROSOFT-CDO-ALLDAYEVENT:FALSE
SUMMARY:Support Group for Those Who Have Lost a Loved One to Suicide
DESCRIPTION:Hospice Volunteers of Hancock County is offering 8-week bereavement support group for those who have lost a loved one to suicide\, starting in July\, free of charge. Registration is required. Please contact HVHC at 667-2531 or info@hospiceofhancock.org for more information or to register.
X-ALT-DESC;FMTTYPE=text/html:Hospice Volunteers of Hancock County is offering 8-week bereavement support group for those who have lost a loved one to suicide\, starting in July\, free of charge. Registration is required. Please contact HVHC at 667-2531 or info@hospiceofhancock.org for more information or to register.
LOCATION:St. Francis by the Sea Church\, Blue Hill
UID:e.3061.2808
SEQUENCE:3
DTSTAMP:20260420T182953Z
URL:https://www.visitbarharbor.com/events/details/support-group-for-those-who-have-lost-a-loved-one-to-suicide-2808
END:VEVENT

END:VCALENDAR
