BEGIN:VCALENDAR
VERSION:2.0
PRODID:-//ChamberMaster//Event Calendar 2.0//EN
METHOD:PUBLISH
X-PUBLISHED-TTL:P3D
REFRESH-INTERVAL:P3D
CALSCALE:GREGORIAN
BEGIN:VEVENT
DTSTART:20180709T210000Z
DTEND:20180709T230000Z
X-MICROSOFT-CDO-ALLDAYEVENT:FALSE
SUMMARY:Support Group for Those Who Have Lost a Loved One
DESCRIPTION:Hospice Volunteers of Hancock County is offering an 8-week bereavement support groups for those who have lost a loved one\, free of charge. Registration is required.
X-ALT-DESC;FMTTYPE=text/html:Hospice Volunteers of Hancock County is offering an 8-week bereavement support groups for those who have lost a loved one\, free of charge. Registration is required.
LOCATION:Hospice Volunteers of Hancock County\, 14 McKenzie Ave\, Ellsworth
UID:e.3061.2809
SEQUENCE:3
DTSTAMP:20260420T215853Z
URL:https://www.visitbarharbor.com/events/details/support-group-for-those-who-have-lost-a-loved-one-2809
END:VEVENT

END:VCALENDAR
