BEGIN:VCALENDAR
VERSION:2.0
PRODID:-//ChamberMaster//Event Calendar 2.0//EN
METHOD:PUBLISH
X-PUBLISHED-TTL:P3D
REFRESH-INTERVAL:P3D
CALSCALE:GREGORIAN
BEGIN:VEVENT
DTSTART:20190821T223000Z
DTEND:20190821T233000Z
X-MICROSOFT-CDO-ALLDAYEVENT:FALSE
SUMMARY:Sunset Yoga on Cadillac - Blue Hill Overlook
DESCRIPTION:Sunset yoga practice at the Blue Hill Overlook on Cadillac.  Join us for a one hour grounded practice while the sun sets.\n\n\n\nNo experience necessary.  All LEVELS Mats & props provided.\n\n\n\n\n\nContact Bex for questions 301-787-4243 or rhaverkos@gmail.com.
X-ALT-DESC;FMTTYPE=text/html:Sunset yoga practice at the Blue Hill Overlook on Cadillac.&nbsp\; Join us for a one hour grounded practice while the sun sets.<br />\n<br />\nNo experience necessary.&nbsp\; All LEVELS Mats &amp\; props provided.<br />\n<br />\n<br />\nContact Bex for questions 301-787-4243 or rhaverkos@gmail.com.
LOCATION:Blue Hill Overlook\, Cadillac Mountain\, Acadia National Park
UID:e.3061.12298
SEQUENCE:3
DTSTAMP:20260422T194003Z
URL:https://www.visitbarharbor.com/events/details/sunset-yoga-on-cadillac-blue-hill-overlook-08-21-2019-12298
END:VEVENT

END:VCALENDAR
