BEGIN:VCALENDAR
VERSION:2.0
PRODID:-//ChamberMaster//Event Calendar 2.0//EN
METHOD:PUBLISH
X-PUBLISHED-TTL:P3D
REFRESH-INTERVAL:P3D
CALSCALE:GREGORIAN
BEGIN:VEVENT
DTSTART:20180812T200000Z
DTEND:20180813T023000Z
X-MICROSOFT-CDO-ALLDAYEVENT:FALSE
SUMMARY:Sunset Cruise\, Dinner & A Show
DESCRIPTION:Sunset Cruise\, Dinner & A Show in Winter Harbor\n\n\n\nJoin us aboard the Schoodic Ferry Sunday\, August 12\, 2018 as you take a private\, concert attendee's-only boat cruise across Frenchman Bay. Arrive in Winter Harbor to enjoy a lobster bake with a harbor-view at The Fisherman's Galley and see classical music duo Biss/Saeverud live a the Schoodic Arts for All Festival Showcase.\nDepart the lovely College of the Atlantic campus\, enjoying scenic views of Frenchman Bay and Acadia National Park while crossing. Arrive at the Schoodic Marine Center dock where you will have a choice of a scenic 10 minute stroll to dinner or private 5 minute van ride to locally owned and operated The Fisherman's Galley for a tent-covered lobster bake overlooking the harbor.\n\nDinner Menu:\n\nChoice of the following entree's and appetizers:\n\n\n	Maine Lobster Bake: Cup of clam chowder\, mix of steamed clams and mussels and 1.25 lb steamed lobster\n	Sirloin: Grilled 10 oz sirloin steak\, served with garden salad and choice of dressing\n	Eggplant Marvel: Grilled eggplant topped with fresh mozarella and tomato\, served with garden salad and choice of dressing\n\n\nAll entree's accompanied by steamed corn and potatoes\, with blueberry pie for dessert.\n\nAfter dinner\, board your private van transportation to historic Hammond Hall. Wander the Schoodic Arts for All Festival Showcase\, and experience acclaimed classical music duo pianist Gregory Biss and violinist Trond Saeverud\, headliners for the Schoodic Arts for All Festival\, beginning at 7:00 p.m.\n\nPianist Gregory Biss and violinist Trond Saeverud present a program of all-time favorites for violin and piano\, including Ravel's dramatic Tzigane\, Chausson's gorgeous Poeme   and Debussy's groundbreaking sonata. An evening of French fragrances\, passions and magic.\n\nViolinist Trond Saeverud and pianist Gregory Biss have performed together since 2006\; most often as a duo\, but also in combination with visiting summer colleagues from New York and elsewhere. Their concerts have included several premieres and revivals of obscure works that deserve attention   one of them to be presented tonight. The August 12 recital focuses mostly on all time French favorites for violin and piano   including some of the most beloved pieces on the violin repertory.\n\nEnjoy private van transportation from Hammond Hall after the show for a stress-free ride to the Schoodic Ferry\, and a beautiful night ride back across the Bay.\n\n\n\nTrip Time: 4:00 pm - 10:30 pm.
X-ALT-DESC;FMTTYPE=text/html:Sunset Cruise\, Dinner &amp\; A Show in Winter Harbor<br />\n<br />\nJoin us aboard the Schoodic Ferry Sunday\, August 12\, 2018 as you take a private\, concert attendee&rsquo\;s-only boat cruise across Frenchman Bay. Arrive in Winter Harbor to enjoy a lobster bake with a harbor-view at The Fisherman&rsquo\;s Galley and see classical music duo Biss/Saeverud live a the Schoodic Arts for All Festival Showcase.\n<p>Depart the lovely College of the Atlantic campus\, enjoying scenic views of Frenchman Bay and Acadia National Park while crossing. Arrive at the Schoodic Marine Center dock where you will have a choice of a scenic 10 minute stroll to dinner or private 5 minute van ride to locally owned and operated The Fisherman&rsquo\;s Galley for a tent-covered lobster bake overlooking the harbor.</p>\n\n<p style="text-align: center\;"><strong>Dinner Menu:</strong></p>\n\n<p style="text-align: center\;">Choice of the following entree&rsquo\;s and appetizers:</p>\n\n<ul>\n	<li style="text-align: center\;">Maine Lobster Bake: Cup of clam chowder\, mix of steamed clams and mussels and 1.25 lb steamed lobster</li>\n	<li style="text-align: center\;">Sirloin: Grilled 10 oz sirloin steak\, served with garden salad and choice of dressing</li>\n	<li style="text-align: center\;">Eggplant Marvel: Grilled eggplant topped with fresh mozarella and tomato\, served with garden salad and choice of dressing</li>\n</ul>\n\n<p style="text-align: center\;"><em>All entree&rsquo\;s accompanied by steamed corn and potatoes\, with blueberry pie for dessert.</em></p>\n\n<p>After dinner\, board your private van transportation to historic Hammond Hall. Wander the Schoodic Arts for All Festival Showcase\, and experience acclaimed classical music duo pianist Gregory Biss and violinist Trond Saeverud\, headliners for the Schoodic Arts for All Festival\, beginning at 7:00 p.m.</p>\n\n<p>Pianist Gregory Biss and violinist Trond Saeverud present a program of all-time favorites for violin and piano\, including Ravel&rsquo\;s dramatic Tzigane\, Chausson&rsquo\;s gorgeous Poeme &ndash\; and Debussy&rsquo\;s groundbreaking sonata. An evening of French fragrances\, passions and magic.</p>\n\n<p>Violinist Trond Saeverud and pianist Gregory Biss have performed together since 2006\; most often as a duo\, but also in combination with visiting summer colleagues from New York and elsewhere. Their concerts have included several premieres and revivals of obscure works that deserve attention &ndash\; one of them to be presented tonight. The August 12 recital focuses mostly on all time French favorites for violin and piano &ndash\; including some of the most beloved pieces on the violin repertory.</p>\n\n<p>Enjoy private van transportation from Hammond Hall after the show for a stress-free ride to the Schoodic Ferry\, and a beautiful night ride back across the Bay.<br />\n<br />\nTrip Time: 4:00 pm - 10:30 pm.</p>\n
LOCATION:Depart College of the Atlantic in Bar Harbor. Dine at the Fisherman's Galley in Winter Harbor. Schoodic Arts for All Festival Showcase at Hammond Hall in Winter Harbor. Arrive back at College of the Atlantic in Bar Harbor.
UID:e.3061.2484
SEQUENCE:3
DTSTAMP:20260420T181412Z
URL:https://www.visitbarharbor.com/events/details/sunset-cruise-dinner-a-show-2484
END:VEVENT

END:VCALENDAR
