BEGIN:VCALENDAR
VERSION:2.0
PRODID:-//ChamberMaster//Event Calendar 2.0//EN
METHOD:PUBLISH
X-PUBLISHED-TTL:P3D
REFRESH-INTERVAL:P3D
CALSCALE:GREGORIAN
BEGIN:VEVENT
DTSTART:20180621T130000Z
DTEND:20180621T143000Z
X-MICROSOFT-CDO-ALLDAYEVENT:FALSE
SUMMARY:SUMMER SOLSTICE YOGA on the BAY!
DESCRIPTION:Join us to celebrate the Summer Solstice and international YOGA day on beautiful Frenchman's Bay! Wiggle your toes in the grass\, listen to the waves crash on the rocky coastline\, feel the sun on your skin and smell the salty ocean breeze all from your YOGA mat! Summer solstice yoga is a wonderful way to connect with nature and celebrate the longer sunnier days of summer! After class we will be offering a selection of solstice teas. There will also be the opportunity to meet our 2018 yoga instructors. Open to the PUBLIC! Mats provided. Locals please bring mat if you have one. We look forward to the opportunity to practice with you and kick off the summer!! Class is for all levels. Rain date is 6/22/2018
X-ALT-DESC;FMTTYPE=text/html:Join us to celebrate the Summer Solstice and international YOGA day on beautiful Frenchman&#39\;s Bay! Wiggle your toes in the grass\, listen to the waves crash on the rocky coastline\, feel the sun on your skin and smell the salty ocean breeze all from your YOGA mat! Summer solstice yoga is a wonderful way to connect with nature and celebrate the longer sunnier days of summer! After class we will be offering a selection of solstice teas. There will also be the opportunity to meet our 2018 yoga instructors. Open to the PUBLIC! Mats provided. Locals please bring mat if you have one. We look forward to the opportunity to practice with you and kick off the summer!! Class is for all levels. Rain date is 6/22/2018
LOCATION:Bar Harbor Inn & Spa 1 Newport Drive Bar Harbor\, ME On lawn by ocean walk path in front of the oceanfront building
UID:e.3061.2573
SEQUENCE:3
DTSTAMP:20260420T195925Z
URL:https://www.visitbarharbor.com/events/details/summer-solstice-yoga-on-the-bay-2573
END:VEVENT

END:VCALENDAR
