BEGIN:VCALENDAR
VERSION:2.0
PRODID:-//ChamberMaster//Event Calendar 2.0//EN
METHOD:PUBLISH
X-PUBLISHED-TTL:P3D
REFRESH-INTERVAL:P3D
CALSCALE:GREGORIAN
BEGIN:VEVENT
DTSTART:20180607T223000Z
DTEND:20180608T000000Z
X-MICROSOFT-CDO-ALLDAYEVENT:FALSE
SUMMARY:Summer Reading Kickoff Party!
DESCRIPTION:Southwest Harbor Public Library will host their annual Summer Reading Kick-Off Party on Thursday\, June 7\, 6:30 pm. The evening will include refreshments\, the opportunity to sign up for Summer Reading programs\, and an exclusive film screening of "Thoughts on Books\," a collection of filmed book reviews created by the Pemetic Elementary School fourth grade class. For more info call the Library at 244-7065.
X-ALT-DESC;FMTTYPE=text/html:Southwest Harbor Public Library will host their annual Summer Reading Kick-Off Party on Thursday\, June 7\, 6:30 pm. The evening will include refreshments\, the opportunity to sign up for Summer Reading programs\, and an exclusive film screening of &ldquo\;Thoughts on Books\,&rdquo\; a collection of filmed book reviews created by the Pemetic Elementary School fourth grade class. For more info call the Library at 244-7065.
LOCATION:Southwest Harbor Public Library
UID:e.3061.2793
SEQUENCE:3
DTSTAMP:20260420T195440Z
URL:https://www.visitbarharbor.com/events/details/summer-reading-kickoff-party-2793
END:VEVENT

END:VCALENDAR
