BEGIN:VCALENDAR
VERSION:2.0
PRODID:-//ChamberMaster//Event Calendar 2.0//EN
METHOD:PUBLISH
X-PUBLISHED-TTL:P3D
REFRESH-INTERVAL:P3D
CALSCALE:GREGORIAN
BEGIN:VEVENT
DTSTART:20180803T161500Z
DTEND:20180803T170000Z
X-MICROSOFT-CDO-ALLDAYEVENT:FALSE
SUMMARY:Summer Organ Series
DESCRIPTION:The first guests of the Summer Organ Series are Kevin Birch and Francien Janse-Balzer. They will play various organ duets.
X-ALT-DESC;FMTTYPE=text/html:The first guests of the Summer Organ Series are Kevin Birch and Francien Janse-Balzer. They will play various organ duets.
LOCATION:St. Saviours 41 Mt. Desert St Bar Harbor
UID:e.3061.3138
SEQUENCE:3
DTSTAMP:20260420T165013Z
URL:https://www.visitbarharbor.com/events/details/summer-organ-series-3138
END:VEVENT

END:VCALENDAR
