BEGIN:VCALENDAR
VERSION:2.0
PRODID:-//ChamberMaster//Event Calendar 2.0//EN
METHOD:PUBLISH
X-PUBLISHED-TTL:P3D
REFRESH-INTERVAL:P3D
CALSCALE:GREGORIAN
BEGIN:VEVENT
DTSTART:20180824T161500Z
DTEND:20180824T170000Z
X-MICROSOFT-CDO-ALLDAYEVENT:FALSE
SUMMARY:Summer Organ Series
DESCRIPTION:The last of the Summer Organ Series concerts brings us Daniel Pyle and Elena Kraineva (viola d'amore). They will be playing pieces from the 17th\, 18th and 20th centuries.
X-ALT-DESC;FMTTYPE=text/html:The last of the Summer Organ Series concerts brings us Daniel Pyle and Elena Kraineva (viola d&#39\;amore). They will be playing pieces from the 17th\, 18th and 20th centuries.
LOCATION:St. Saviour's Episcopal Church 41 Mt. Desert St Bar Harbor
UID:e.3061.3302
SEQUENCE:3
DTSTAMP:20260420T165913Z
URL:https://www.visitbarharbor.com/events/details/summer-organ-series-08-24-2018-3302
END:VEVENT

END:VCALENDAR
