BEGIN:VCALENDAR
VERSION:2.0
PRODID:-//ChamberMaster//Event Calendar 2.0//EN
METHOD:PUBLISH
X-PUBLISHED-TTL:P3D
REFRESH-INTERVAL:P3D
CALSCALE:GREGORIAN
BEGIN:VEVENT
DTSTART:20180817T161500Z
DTEND:20180817T170000Z
X-MICROSOFT-CDO-ALLDAYEVENT:FALSE
SUMMARY:Summer Organ Series
DESCRIPTION:Our 3rd guest\, Ray Cornils\, the public face of Portland\, Maine's 104-year-old Kotzschmar organ and one of just two municipal organists in the country\, will honor us after leaving his post at the end of 2017. Mr. Cornils is a veteran of this summer series.
X-ALT-DESC;FMTTYPE=text/html:Our 3rd guest\, Ray Cornils\, the public face of Portland\, Maine&#39\;s 104-year-old Kotzschmar organ and one of just two municipal organists in the country\, will honor us after leaving his post at the end of 2017. Mr. Cornils is a veteran of this summer series.
LOCATION:St. Saviours 41 Mt Desert St Bar Harbor
UID:e.3061.3140
SEQUENCE:3
DTSTAMP:20260420T170107Z
URL:https://www.visitbarharbor.com/events/details/summer-organ-series-08-17-2018-3140
END:VEVENT

END:VCALENDAR
