BEGIN:VCALENDAR
VERSION:2.0
PRODID:-//ChamberMaster//Event Calendar 2.0//EN
METHOD:PUBLISH
X-PUBLISHED-TTL:P3D
REFRESH-INTERVAL:P3D
CALSCALE:GREGORIAN
BEGIN:VEVENT
DTSTART:20180810T161500Z
DTEND:20180810T170000Z
X-MICROSOFT-CDO-ALLDAYEVENT:FALSE
SUMMARY:Summer Organ Series
DESCRIPTION:Undergraduate degree in Organ Performance from the Eastman School of Music and a Master's Degree with a church music certificate from the Institute of Sacred Music at Yale University\, completed additional organ studies as a Fulbright scholar in Bremen\, Germany
X-ALT-DESC;FMTTYPE=text/html:Undergraduate degree in Organ Performance from the Eastman School of Music and a Master&rsquo\;s Degree with a church music certificate from the Institute of Sacred Music at Yale University\, completed additional organ studies as a Fulbright scholar in Bremen\, Germany
LOCATION:St. Saviours 41 Mt. Desert St Bar Harbor
UID:e.3061.3139
SEQUENCE:3
DTSTAMP:20260420T170114Z
URL:https://www.visitbarharbor.com/events/details/summer-organ-series-08-10-2018-3139
END:VEVENT

END:VCALENDAR
