BEGIN:VCALENDAR
VERSION:2.0
PRODID:-//ChamberMaster//Event Calendar 2.0//EN
METHOD:PUBLISH
X-PUBLISHED-TTL:P3D
REFRESH-INTERVAL:P3D
CALSCALE:GREGORIAN
BEGIN:VEVENT
DTSTART:20180720T200000Z
DTEND:20180720T230000Z
X-MICROSOFT-CDO-ALLDAYEVENT:FALSE
SUMMARY:Summer Business Book Swap
DESCRIPTION:Summer Business Book Swap It's "Season" in Bar Harbor! We know you are going flat out now\, so we're not offering and intense presentation this month. July's' Professional Development Workshop will be a business Book Swap Social. Bring a book that has inspired or improved you and/or your business (that you can live without!) We'll gather over a glass of wine and snacks\, present our books and explain their significance. As a finale\, we'll swap books and you'll go home with a new source of inspiration and the satisfaction of having shared a secret of your success. This is a low pressure opportunity to network and grow as a professional. You'll part with an old friend from your library\, but bring home a new one to inspire you.
X-ALT-DESC;FMTTYPE=text/html:Summer Business Book Swap It&rsquo\;s &ldquo\;Season&rdquo\; in Bar Harbor! We know you are going flat out now\, so we&rsquo\;re not offering and intense presentation this month. July&#39\;s&rsquo\; Professional Development Workshop will be a business Book Swap Social. Bring a book that has inspired or improved you and/or your business (that you can live without!) We&rsquo\;ll gather over a glass of wine and snacks\, present our books and explain their significance. As a finale\, we&rsquo\;ll swap books and you&rsquo\;ll go home with a new source of inspiration and the satisfaction of having shared a secret of your success. This is a low pressure opportunity to network and grow as a professional. You&rsquo\;ll part with an old friend from your library\, but bring home a new one to inspire you.
LOCATION:Anchorspace
UID:e.3061.2876
SEQUENCE:3
DTSTAMP:20260420T195822Z
URL:https://www.visitbarharbor.com/events/details/summer-business-book-swap-2876
END:VEVENT

END:VCALENDAR
