BEGIN:VCALENDAR
VERSION:2.0
PRODID:-//ChamberMaster//Event Calendar 2.0//EN
METHOD:PUBLISH
X-PUBLISHED-TTL:P3D
REFRESH-INTERVAL:P3D
CALSCALE:GREGORIAN
BEGIN:VEVENT
DTSTART:20191116T000000Z
DTEND:20191116T010000Z
X-MICROSOFT-CDO-ALLDAYEVENT:FALSE
SUMMARY:Story Slam: "Family Gatherings"
DESCRIPTION:Just in time for Thanksgiving\, join the Jesup Memorial Library for the next Words Unleashed! Story Slam on Friday\, Nov. 15 at 7 p.m.\, the theme is "Family Gathering." Stop by and share your own family gathering story. Emcee Jeff Miller will keep you laughing and you will not want to miss these great stories. \n\n \n\nThe setup is similar to "The Moth" Radio Hour on NPR. All stories are true\, first-person stories that are five minutes or shorter. Is there something that happens every year at your families' gathering? Maybe there a year someone ruined the meal by starting a grease fire? Come tell us all about it or just come to listen to the stories of your friends and neighbors. At the end of each slam\, the theme for the next slam is chosen.\n\n \n\nFor more information on the slam\, contact the Jesup at 207-288-4245.
X-ALT-DESC;FMTTYPE=text/html:<span style="font-family:times new roman\,serif"><span style="font-size:14.0pt">Just in time for Thanksgiving\, join the Jesup Memorial Library for the next Words Unleashed! Story Slam on Friday\, Nov. 15 at 7 p.m.\, the theme is &ldquo\;Family Gathering.&rdquo\; Stop by and share your own family gathering story. Emcee Jeff Miller will keep you laughing and you will not want to miss these great stories. </span></span><br />\n&nbsp\;<br />\n<span style="font-family:times new roman\,serif"><span style="font-size:14.0pt">The setup is similar to &ldquo\;The Moth&rdquo\; Radio Hour on NPR. All stories are true\, first-person stories that are five minutes or shorter. Is there something that happens every year at your families&rsquo\; gathering? Maybe there a year someone ruined the meal by starting a grease fire? Come tell us all about it or just come to listen to the stories of your friends and neighbors. At the end of each slam\, the theme for the next slam is chosen.</span></span><br />\n&nbsp\;<br />\n<span style="font-family:times new roman\,serif"><span style="font-size:14.0pt">For more information on the slam\, contact the Jesup at 207-288-4245.</span></span>
LOCATION:Jesup Memorial Library\, 34 Mt. Desert St.\, Bar Harbor
UID:e.3061.16328
SEQUENCE:3
DTSTAMP:20260419T155834Z
URL:https://www.visitbarharbor.com/events/details/story-slam-family-gatherings-16328
END:VEVENT

END:VCALENDAR
