BEGIN:VCALENDAR
VERSION:2.0
PRODID:-//ChamberMaster//Event Calendar 2.0//EN
METHOD:PUBLISH
X-PUBLISHED-TTL:P3D
REFRESH-INTERVAL:P3D
CALSCALE:GREGORIAN
BEGIN:VEVENT
DTSTART:20190315T230000Z
DTEND:20190316T000000Z
X-MICROSOFT-CDO-ALLDAYEVENT:FALSE
SUMMARY:Story Slam
DESCRIPTION:We all have one of those memories where it was really funny at the time but maybe it wasn't really funny at all. Join emcee Jeff Miller and share your true\, first-person story at the next Words Unleashed! Story Slam on Friday\, March 15 at 7 p.m. The theme of the slam is "It was funny at the time" or\, conversely\, "It wasn't funny at the time." Share your story that fits that theme.\n\n \n\nStories should be no more than five minutes long\, in the first person and your own true story. Come tell your tale or listen to the stories of your friends and neighbors. At the end of each slam\, the theme for the next slam is chosen.\n\n \n\nFor more information contact the Jesup at 207-288-4245 or mrice@jesuplibrary.org.
X-ALT-DESC;FMTTYPE=text/html:<span style="font-family:times new roman\,serif"><span style="font-size:14.0pt">We all have one of those memories where it was really funny at the time but maybe it wasn&rsquo\;t really funny at all. Join emcee Jeff Miller and share your true\, first-person story at the next Words Unleashed! Story Slam on Friday\, March 15 at 7 p.m. The theme of the slam is &ldquo\;It was funny at the time&rdquo\; or\, conversely\, &ldquo\;It wasn&#39\;t funny at the time.&rdquo\; Share your story that fits that theme.</span></span><br />\n&nbsp\;<br />\n<span style="font-family:times new roman\,serif"><span style="font-size:14.0pt">Stories should be no more than five minutes long\, in the first person and your own true story. Come tell your tale or listen to the stories of your friends and neighbors. At the end of each slam\, the theme for the next slam is chosen.</span></span><br />\n&nbsp\;<br />\n<span style="font-family:times new roman\,serif"><span style="font-size:14.0pt">For more information contact the Jesup at <span class="gc-cs-link" id="gc-number-0" title="Call with Google Voice">207-288-4245</span> or mrice@jesuplibrary.org.</span></span>
LOCATION:Jesup Memorial Library\, 34 Mt. Desert St.\, Bar Harbor
UID:e.3061.5372
SEQUENCE:3
DTSTAMP:20260420T042857Z
URL:https://www.visitbarharbor.com/events/details/story-slam-5372
END:VEVENT

END:VCALENDAR
