BEGIN:VCALENDAR
VERSION:2.0
PRODID:-//ChamberMaster//Event Calendar 2.0//EN
METHOD:PUBLISH
X-PUBLISHED-TTL:P3D
REFRESH-INTERVAL:P3D
CALSCALE:GREGORIAN
BEGIN:VEVENT
DTSTART:20180502T220000Z
DTEND:20180503T000000Z
X-MICROSOFT-CDO-ALLDAYEVENT:FALSE
SUMMARY:Stop the Bleed Class at the Jesup
DESCRIPTION:John Lennon\, Assistant Chief of the Bar Harbor Fire Department\, will lead a "Stop the Bleed" class at the Jesup Memorial Library on Wednesday\, May 2 at 6 p.m. The class will teach the basics of bleeding control for bystanders. This class is free and open to the public\, but registration is required.\n\n \n\nThe class will cover the ABCs of bleeding control and teaching participants how to provide immediate\, frontline aid until first responders are able to take over care of an injured person. Participants will learn how to use tourniquets and along with other techniques to control bleeding.\n\n \n\nThe "Stop the Bleed" campaign was initiated by a federal interagency workgroup convened by the National Security Council Staff\, The White House. The purpose of the campaign is to build national resilience by better preparing the public to save lives by raising awareness of basic actions to stop life threatening bleeding following everyday emergencies and man-made and natural disasters.\n\n \n\nTo register contact the Jesup at 207-288-4245 or come in and sign up at the front desk.
X-ALT-DESC;FMTTYPE=text/html:<span style="color:rgb(34\, 34\, 34)\; font-family:arial\,verdana\,sans-serif\; font-size:12px">John Lennon\, Assistant Chief of the Bar Harbor Fire Department\, will lead a &ldquo\;Stop the Bleed&rdquo\; class at the Jesup Memorial Library on Wednesday\, May 2 at 6 p.m. The class will teach the basics of bleeding control for bystanders. This class is free and open to the public\, but registration is required.</span><br />\n<span style="color:rgb(34\, 34\, 34)\; font-family:arial\,verdana\,sans-serif\; font-size:12px">&nbsp\;</span><br />\n<span style="color:rgb(34\, 34\, 34)\; font-family:arial\,verdana\,sans-serif\; font-size:12px">The class will cover the ABCs of bleeding control and teaching participants how to provide immediate\, frontline aid until first responders are able to take over care of an injured person. Participants will learn how to use tourniquets and along with other techniques to control bleeding.</span><br />\n<span style="color:rgb(34\, 34\, 34)\; font-family:arial\,verdana\,sans-serif\; font-size:12px">&nbsp\;</span><br />\n<span style="color:rgb(34\, 34\, 34)\; font-family:arial\,verdana\,sans-serif\; font-size:12px">The &ldquo\;Stop the Bleed&rdquo\; campaign was initiated by a federal interagency workgroup convened by the National Security Council Staff\, The White House. The purpose of the campaign is to build national resilience by better preparing the public to save lives by raising awareness of basic actions to stop life threatening bleeding following everyday emergencies and man-made and natural disasters.</span><br />\n<span style="color:rgb(34\, 34\, 34)\; font-family:arial\,verdana\,sans-serif\; font-size:12px">&nbsp\;</span><br />\n<span style="color:rgb(34\, 34\, 34)\; font-family:arial\,verdana\,sans-serif\; font-size:12px">To register contact the Jesup at 207-288-4245 or come in and sign up at the front desk.</span>
LOCATION:Jesup Memorial Library\, 34 Mt. Desert St.\, Bar Harbor\, ME 04609
UID:e.3061.851
SEQUENCE:3
DTSTAMP:20260420T215806Z
URL:https://www.visitbarharbor.com/events/details/stop-the-bleed-class-at-the-jesup-851
END:VEVENT

END:VCALENDAR
