BEGIN:VCALENDAR
VERSION:2.0
PRODID:-//ChamberMaster//Event Calendar 2.0//EN
METHOD:PUBLISH
X-PUBLISHED-TTL:P3D
REFRESH-INTERVAL:P3D
CALSCALE:GREGORIAN
BEGIN:VEVENT
DTSTART:20191104T230000Z
DTEND:20191105T010000Z
X-MICROSOFT-CDO-ALLDAYEVENT:FALSE
SUMMARY:Still Life Drop-In
DESCRIPTION:Stop by from 6-8 PM to practice drawing or painting a still life tableau. No instruction\, just friendly fellow artists\, tea\, easels\, drawing boards\, and paper.
X-ALT-DESC;FMTTYPE=text/html:Stop by from 6-8 PM to practice drawing or painting a still life tableau. No instruction\, just friendly fellow artists\, tea\, easels\, drawing boards\, and paper.&nbsp\;
LOCATION:ArtWaves 1345 State Highway 102\, Bar Harbor\, ME\, USA
UID:e.3061.16363
SEQUENCE:3
DTSTAMP:20260419T155313Z
URL:https://www.visitbarharbor.com/events/details/still-life-drop-in-11-04-2019-16363
END:VEVENT

END:VCALENDAR
