BEGIN:VCALENDAR
VERSION:2.0
PRODID:-//ChamberMaster//Event Calendar 2.0//EN
METHOD:PUBLISH
X-PUBLISHED-TTL:P3D
REFRESH-INTERVAL:P3D
CALSCALE:GREGORIAN
BEGIN:VEVENT
DTSTART:20190430T201000Z
DTEND:20190430T213000Z
X-MICROSOFT-CDO-ALLDAYEVENT:FALSE
SUMMARY:Staying Hydrated: Plato and the Problem of Water
DESCRIPTION:Philosopher Michael Naas\, Ph.D.\, joins the College of the Atlantic Human Ecology Forum to explore the relationship of one of the world's best-known philosophers to one of the Earth's most abundant chemical compounds.
X-ALT-DESC;FMTTYPE=text/html:Philosopher Michael Naas\, Ph.D.\, joins the College of the Atlantic Human Ecology Forum to explore the relationship of one of the world&rsquo\;s best-known philosophers to one of the Earth&rsquo\;s most abundant chemical compounds.
LOCATION:College of the Atlantic McCormick Lecture Hall
UID:e.3061.8928
SEQUENCE:3
DTSTAMP:20260420T043519Z
URL:https://www.visitbarharbor.com/events/details/staying-hydrated-plato-and-the-problem-of-water-8928
END:VEVENT

END:VCALENDAR
