BEGIN:VCALENDAR
VERSION:2.0
PRODID:-//ChamberMaster//Event Calendar 2.0//EN
METHOD:PUBLISH
X-PUBLISHED-TTL:P3D
REFRESH-INTERVAL:P3D
CALSCALE:GREGORIAN
BEGIN:VEVENT
DTSTART:20190206T230000Z
DTEND:20190207T010000Z
X-MICROSOFT-CDO-ALLDAYEVENT:FALSE
SUMMARY:Stained Glass Workshop
DESCRIPTION:Color with stained glass with Liz Cutler from ArtWaves at this fun\, family friendly\, crafting event at the Jesup Memorial Library on Wednesday\, Feb. 6 at 6 p.m. By the end of the workshop you will have created your own mosaic that you can hang from the wall or in the window. \n\n \n\nCutler will guide you how to create a mosaic either using a pattern or create your own unique design. Arrange the glass\, stones and tiles into your own design\, then use nippers to shape the glass and make a small mosaic. If there is something you want to add to your mosaic\, feel free to bring it in with you. After your work dries\, you can also bring it to ArtWaves to grout your piece. \n\n \n\nThis event is free and open to everyone but registration is required. To register contact the Jesup at 207-288-4245.
X-ALT-DESC;FMTTYPE=text/html:<span style="font-family:times new roman\,serif"><span style="font-size:14.0pt">Color with stained glass with Liz Cutler from ArtWaves at this fun\, family friendly\, crafting event at the Jesup Memorial Library on Wednesday\, Feb. 6 at 6 p.m. By the end of the workshop you will have created your own mosaic that you can hang from the wall or in the window. </span></span><br />\n&nbsp\;<br />\n<span style="font-family:times new roman\,serif"><span style="font-size:14.0pt">Cutler will guide you how to create a mosaic either using a pattern or create your own unique design. Arrange the glass\, stones and tiles into your own design\, then use nippers to shape the glass and make a small mosaic. If there is something you want to add to your mosaic\, feel free to bring it in with you. After your work dries\, you can also bring it to ArtWaves to grout your piece. </span></span><br />\n&nbsp\;<br />\n<span style="font-family:times new roman\,serif"><span style="font-size:14.0pt">This event is free and open to everyone but registration is required. To register contact the Jesup at 207-288-4245. </span></span>
LOCATION:Jesup Memorial Library\, 34 Mt. Desert St.\, Bar Harbor\, ME 04609
UID:e.3061.4900
SEQUENCE:3
DTSTAMP:20260420T062300Z
URL:https://www.visitbarharbor.com/events/details/stained-glass-workshop-4900
END:VEVENT

END:VCALENDAR
