BEGIN:VCALENDAR
VERSION:2.0
PRODID:-//ChamberMaster//Event Calendar 2.0//EN
METHOD:PUBLISH
X-PUBLISHED-TTL:P3D
REFRESH-INTERVAL:P3D
CALSCALE:GREGORIAN
BEGIN:VEVENT
DTSTART:20180612T220000Z
DTEND:20180613T010000Z
X-MICROSOFT-CDO-ALLDAYEVENT:FALSE
SUMMARY:Stained Glass Mosaic Birches
DESCRIPTION:There's something magical about a birch grove- maybe the sense of light\, the texture or the distinctive black and white patterns that translates so well in stained glass. Learn to cut\, grind and grout glass. Bring home your own version for your wall or window using our huge colorful selection of glass and our step by step instructions. It's like coloring with stained glass!\n\nNo experience necessary - Liz Cutler will give you tips on design\, colors and create a sense of general merriment. Art intensive children 9 and up are welcome unacompanied. \n\nFeel free to bring in a stone or something special to add in- you are welcome to do your own design as well!\n\nhttps://www.artwavesmdi.org/product-page/june-12-stained-glass-mosaic-birches
X-ALT-DESC;FMTTYPE=text/html:<span style="color:rgb(46\, 46\, 46)\; font-family:open sans\,sans-serif\; font-size:15px">There&rsquo\;s something magical about a birch grove- maybe the sense of light\, the texture or the distinctive black and white patterns that translates so well in stained glass. Learn to cut\, grind and grout glass. Bring home your own version for your wall or window using our huge colorful selection of glass and our step by step instructions. It&rsquo\;s like coloring with stained glass!<br />\nNo experience necessary - Liz Cutler will give you tips on design\, colors and create a sense of general merriment. Art intensive children 9 and up are welcome unacompanied.&nbsp\;<br />\nFeel free to bring in a stone or something special to add in- you are welcome to do your own design as well!</span><br />\nhttps://www.artwavesmdi.org/product-page/june-12-stained-glass-mosaic-birches
LOCATION:ArtWaves Your Community Arts Center 1345-A State Highway 102 next to Town Hill Market Bar Harbor\, ME 04609 office@artwavesmdi.org 207-266-0010
UID:e.3061.2460
SEQUENCE:3
DTSTAMP:20260420T195728Z
URL:https://www.visitbarharbor.com/events/details/stained-glass-mosaic-birches-2460
END:VEVENT

END:VCALENDAR
