BEGIN:VCALENDAR
VERSION:2.0
PRODID:-//ChamberMaster//Event Calendar 2.0//EN
METHOD:PUBLISH
X-PUBLISHED-TTL:P3D
REFRESH-INTERVAL:P3D
CALSCALE:GREGORIAN
BEGIN:VEVENT
DTSTART:20180628T170000Z
DTEND:20180628T200000Z
X-MICROSOFT-CDO-ALLDAYEVENT:FALSE
SUMMARY:Stained Glass Mosaic Birches
DESCRIPTION:Instructor: Liz Cutler There's something magical about a birch grove- maybe the sense of light\, the texture or the distinctive black and white patterns that translates so well in stained glass. Learn to cut\, grind and grout glass. Bring home your own version with our huge colorful selection of glass and our step by step instructions. It's like coloring with stained glass. Feel free to bring in a stone or something special to add in- you are welcome to do your own design as well!
X-ALT-DESC;FMTTYPE=text/html:Instructor: Liz Cutler There&rsquo\;s something magical about a birch grove- maybe the sense of light\, the texture or the distinctive black and white patterns that translates so well in stained glass. Learn to cut\, grind and grout glass. Bring home your own version with our huge colorful selection of glass and our step by step instructions. It&rsquo\;s like coloring with stained glass. Feel free to bring in a stone or something special to add in- you are welcome to do your own design as well!
LOCATION:ArtWaves 1345-A Highway 102 Town Hill Village Bar Harbor\, ME 04609
UID:e.3061.2942
SEQUENCE:3
DTSTAMP:20260420T214349Z
URL:https://www.visitbarharbor.com/events/details/stained-glass-mosaic-birches-06-28-2018-2942
END:VEVENT

END:VCALENDAR
