BEGIN:VCALENDAR
VERSION:2.0
PRODID:-//ChamberMaster//Event Calendar 2.0//EN
METHOD:PUBLISH
X-PUBLISHED-TTL:P3D
REFRESH-INTERVAL:P3D
CALSCALE:GREGORIAN
BEGIN:VEVENT
DTSTART;VALUE=DATE:20190317
DTEND;VALUE=DATE:20190318
TRANSP:TRANSPARENT
X-MICROSOFT-CDO-ALLDAYEVENT:TRUE
SUMMARY:St. Patrick's Day at Leary's Landing Irish Pub
DESCRIPTION:Join us for our annual St. Patrick's Day Celebration on Sunday\, March 17! \n\nOpening doors at 9am. \n\n	Irish Breakfast\n	Guinness\, Smithwick's\, Harp\, Magners\n	Boiled Dinner\n	Collaboration brew with Fore River Brewing Co.\n\nAnd so much more! Don`t miss it!
X-ALT-DESC;FMTTYPE=text/html:Join us for our annual St. Patrick&#39\;s Day Celebration on Sunday\, March 17!&nbsp\;<br />\nOpening doors at 9am.&nbsp\;\n<ul>\n	<li>Irish Breakfast</li>\n	<li>Guinness\, Smithwick&#39\;s\, Harp\, Magners</li>\n	<li>Boiled Dinner</li>\n	<li>Collaboration brew with Fore River Brewing Co.</li>\n</ul>\nAnd so much more! Don`t miss it!\n\n<h2 style="font-style:italic">&nbsp\;</h2>\n
LOCATION:Leary's Landing Irish Pub
UID:e.3061.5136
SEQUENCE:3
DTSTAMP:20260420T043321Z
URL:https://www.visitbarharbor.com/events/details/st-patrick-s-day-at-leary-s-landing-irish-pub-5136
END:VEVENT

END:VCALENDAR
